BEGIN:VCALENDAR
VERSION:2.0
PRODID:-//El Buen Samaritano - ECPv6.15.20//NONSGML v1.0//EN
CALSCALE:GREGORIAN
METHOD:PUBLISH
X-ORIGINAL-URL:https://elbuen.org
X-WR-CALDESC:Events for El Buen Samaritano
REFRESH-INTERVAL;VALUE=DURATION:PT1H
X-Robots-Tag:noindex
X-PUBLISHED-TTL:PT1H
BEGIN:VTIMEZONE
TZID:UTC
BEGIN:STANDARD
TZOFFSETFROM:+0000
TZOFFSETTO:+0000
TZNAME:UTC
DTSTART:20230101T000000
END:STANDARD
END:VTIMEZONE
BEGIN:VEVENT
DTSTART;TZID=UTC:20240618T183000
DTEND;TZID=UTC:20240618T203000
DTSTAMP:20260421T120956
CREATED:20240419T164232Z
LAST-MODIFIED:20240419T164232Z
UID:29168-1718735400-1718742600@elbuen.org
SUMMARY:Virtual ESL Classes (Summer Semester)
DESCRIPTION:
URL:https://elbuen.org/event/virtual-esl-classes-summer-semester-2024-06-18-2/
END:VEVENT
BEGIN:VEVENT
DTSTART;TZID=UTC:20240619T093000
DTEND;TZID=UTC:20240619T233000
DTSTAMP:20260421T120956
CREATED:20240419T164232Z
LAST-MODIFIED:20240419T164232Z
UID:29169-1718789400-1718839800@elbuen.org
SUMMARY:Virtual ESL Classes (Summer Semester)
DESCRIPTION:
URL:https://elbuen.org/event/virtual-esl-classes-summer-semester-2024-06-19/
END:VEVENT
BEGIN:VEVENT
DTSTART;TZID=UTC:20240619T183000
DTEND;TZID=UTC:20240619T203000
DTSTAMP:20260421T120956
CREATED:20240419T164232Z
LAST-MODIFIED:20240419T164232Z
UID:29170-1718821800-1718829000@elbuen.org
SUMMARY:Virtual ESL Classes (Summer Semester)
DESCRIPTION:
URL:https://elbuen.org/event/virtual-esl-classes-summer-semester-2024-06-19-2/
END:VEVENT
BEGIN:VEVENT
DTSTART;TZID=UTC:20240620T093000
DTEND;TZID=UTC:20240620T233000
DTSTAMP:20260421T120956
CREATED:20240419T164232Z
LAST-MODIFIED:20240419T164232Z
UID:29171-1718875800-1718926200@elbuen.org
SUMMARY:Virtual ESL Classes (Summer Semester)
DESCRIPTION:
URL:https://elbuen.org/event/virtual-esl-classes-summer-semester-2024-06-20/
END:VEVENT
BEGIN:VEVENT
DTSTART;TZID=UTC:20240620T100000
DTEND;TZID=UTC:20240620T120000
DTSTAMP:20260421T120956
CREATED:20240419T164520Z
LAST-MODIFIED:20240419T164520Z
UID:29192-1718877600-1718884800@elbuen.org
SUMMARY:In-Person Digital Literacy Classes (Summer Semester)
DESCRIPTION:
URL:https://elbuen.org/event/in-person-digital-literacy-classes-summer-semester-2024-06-20/
END:VEVENT
BEGIN:VEVENT
DTSTART;TZID=UTC:20240620T183000
DTEND;TZID=UTC:20240620T203000
DTSTAMP:20260421T120956
CREATED:20240419T164232Z
LAST-MODIFIED:20240419T164232Z
UID:29172-1718908200-1718915400@elbuen.org
SUMMARY:Virtual ESL Classes (Summer Semester)
DESCRIPTION:
URL:https://elbuen.org/event/virtual-esl-classes-summer-semester-2024-06-20-2/
END:VEVENT
BEGIN:VEVENT
DTSTART;TZID=UTC:20240624T093000
DTEND;TZID=UTC:20240624T233000
DTSTAMP:20260421T120956
CREATED:20240523T021319Z
LAST-MODIFIED:20240523T021319Z
UID:29368-1719221400-1719271800@elbuen.org
SUMMARY:Virtual ESL Classes (Summer Semester)
DESCRIPTION:
URL:https://elbuen.org/event/virtual-esl-classes-summer-semester-2-2024-06-24/
END:VEVENT
BEGIN:VEVENT
DTSTART;TZID=UTC:20240624T183000
DTEND;TZID=UTC:20240624T203000
DTSTAMP:20260421T120956
CREATED:20240523T021319Z
LAST-MODIFIED:20240523T021319Z
UID:29369-1719253800-1719261000@elbuen.org
SUMMARY:Virtual ESL Classes (Summer Semester)
DESCRIPTION:
URL:https://elbuen.org/event/virtual-esl-classes-summer-semester-2-2024-06-24-2/
END:VEVENT
BEGIN:VEVENT
DTSTART;TZID=UTC:20240625T093000
DTEND;TZID=UTC:20240625T233000
DTSTAMP:20260421T120956
CREATED:20240419T164232Z
LAST-MODIFIED:20240419T164232Z
UID:29173-1719307800-1719358200@elbuen.org
SUMMARY:Virtual ESL Classes (Summer Semester)
DESCRIPTION:
URL:https://elbuen.org/event/virtual-esl-classes-summer-semester-2024-06-25/
END:VEVENT
BEGIN:VEVENT
DTSTART;TZID=UTC:20240625T100000
DTEND;TZID=UTC:20240625T120000
DTSTAMP:20260421T120956
CREATED:20240419T164520Z
LAST-MODIFIED:20240419T164520Z
UID:29193-1719309600-1719316800@elbuen.org
SUMMARY:In-Person Digital Literacy Classes (Summer Semester)
DESCRIPTION:
URL:https://elbuen.org/event/in-person-digital-literacy-classes-summer-semester-2024-06-25/
END:VEVENT
BEGIN:VEVENT
DTSTART;TZID=UTC:20240625T120000
DTEND;TZID=UTC:20240625T133000
DTSTAMP:20260421T120956
CREATED:20240419T164717Z
LAST-MODIFIED:20240419T164717Z
UID:29206-1719316800-1719322200@elbuen.org
SUMMARY:Virtual Digital Literacy Classes (Summer Semester)
DESCRIPTION:
URL:https://elbuen.org/event/virtual-digital-literacy-classes-summer-semester-2024-06-25/
END:VEVENT
BEGIN:VEVENT
DTSTART;TZID=UTC:20240625T183000
DTEND;TZID=UTC:20240625T203000
DTSTAMP:20260421T120956
CREATED:20240419T164232Z
LAST-MODIFIED:20240419T164232Z
UID:29174-1719340200-1719347400@elbuen.org
SUMMARY:Virtual ESL Classes (Summer Semester)
DESCRIPTION:
URL:https://elbuen.org/event/virtual-esl-classes-summer-semester-2024-06-25-2/
END:VEVENT
BEGIN:VEVENT
DTSTART;TZID=UTC:20240626T093000
DTEND;TZID=UTC:20240626T233000
DTSTAMP:20260421T120956
CREATED:20240419T164232Z
LAST-MODIFIED:20240419T164232Z
UID:29175-1719394200-1719444600@elbuen.org
SUMMARY:Virtual ESL Classes (Summer Semester)
DESCRIPTION:
URL:https://elbuen.org/event/virtual-esl-classes-summer-semester-2024-06-26/
END:VEVENT
BEGIN:VEVENT
DTSTART;TZID=UTC:20240626T183000
DTEND;TZID=UTC:20240626T203000
DTSTAMP:20260421T120956
CREATED:20240419T164232Z
LAST-MODIFIED:20240419T164232Z
UID:29176-1719426600-1719433800@elbuen.org
SUMMARY:Virtual ESL Classes (Summer Semester)
DESCRIPTION:
URL:https://elbuen.org/event/virtual-esl-classes-summer-semester-2024-06-26-2/
END:VEVENT
BEGIN:VEVENT
DTSTART;TZID=UTC:20240627T093000
DTEND;TZID=UTC:20240627T233000
DTSTAMP:20260421T120956
CREATED:20240419T164232Z
LAST-MODIFIED:20240419T164232Z
UID:29178-1719480600-1719531000@elbuen.org
SUMMARY:Virtual ESL Classes (Summer Semester)
DESCRIPTION:
URL:https://elbuen.org/event/virtual-esl-classes-summer-semester-2024-06-27/
END:VEVENT
BEGIN:VEVENT
DTSTART;TZID=UTC:20240627T100000
DTEND;TZID=UTC:20240627T120000
DTSTAMP:20260421T120956
CREATED:20240419T164520Z
LAST-MODIFIED:20240419T164520Z
UID:29194-1719482400-1719489600@elbuen.org
SUMMARY:In-Person Digital Literacy Classes (Summer Semester)
DESCRIPTION:
URL:https://elbuen.org/event/in-person-digital-literacy-classes-summer-semester-2024-06-27/
END:VEVENT
BEGIN:VEVENT
DTSTART;TZID=UTC:20240627T183000
DTEND;TZID=UTC:20240627T203000
DTSTAMP:20260421T120956
CREATED:20240419T164232Z
LAST-MODIFIED:20240419T164232Z
UID:29179-1719513000-1719520200@elbuen.org
SUMMARY:Virtual ESL Classes (Summer Semester)
DESCRIPTION:
URL:https://elbuen.org/event/virtual-esl-classes-summer-semester-2024-06-27-2/
END:VEVENT
BEGIN:VEVENT
DTSTART;TZID=UTC:20240701T093000
DTEND;TZID=UTC:20240701T233000
DTSTAMP:20260421T120956
CREATED:20240523T021319Z
LAST-MODIFIED:20240523T021319Z
UID:29370-1719826200-1719876600@elbuen.org
SUMMARY:Virtual ESL Classes (Summer Semester)
DESCRIPTION:
URL:https://elbuen.org/event/virtual-esl-classes-summer-semester-2-2024-07-01/
END:VEVENT
BEGIN:VEVENT
DTSTART;TZID=UTC:20240701T183000
DTEND;TZID=UTC:20240701T203000
DTSTAMP:20260421T120956
CREATED:20240523T021319Z
LAST-MODIFIED:20240523T021319Z
UID:29371-1719858600-1719865800@elbuen.org
SUMMARY:Virtual ESL Classes (Summer Semester)
DESCRIPTION:
URL:https://elbuen.org/event/virtual-esl-classes-summer-semester-2-2024-07-01-2/
END:VEVENT
BEGIN:VEVENT
DTSTART;TZID=UTC:20240702T093000
DTEND;TZID=UTC:20240702T233000
DTSTAMP:20260421T120956
CREATED:20240419T164232Z
LAST-MODIFIED:20240419T164232Z
UID:29180-1719912600-1719963000@elbuen.org
SUMMARY:Virtual ESL Classes (Summer Semester)
DESCRIPTION:
URL:https://elbuen.org/event/virtual-esl-classes-summer-semester-2024-07-02/
END:VEVENT
BEGIN:VEVENT
DTSTART;TZID=UTC:20240702T100000
DTEND;TZID=UTC:20240702T120000
DTSTAMP:20260421T120956
CREATED:20240419T164520Z
LAST-MODIFIED:20240419T164520Z
UID:29195-1719914400-1719921600@elbuen.org
SUMMARY:In-Person Digital Literacy Classes (Summer Semester)
DESCRIPTION:
URL:https://elbuen.org/event/in-person-digital-literacy-classes-summer-semester-2024-07-02/
END:VEVENT
BEGIN:VEVENT
DTSTART;TZID=UTC:20240702T120000
DTEND;TZID=UTC:20240702T133000
DTSTAMP:20260421T120956
CREATED:20240419T164717Z
LAST-MODIFIED:20240419T164717Z
UID:29207-1719921600-1719927000@elbuen.org
SUMMARY:Virtual Digital Literacy Classes (Summer Semester)
DESCRIPTION:
URL:https://elbuen.org/event/virtual-digital-literacy-classes-summer-semester-2024-07-02/
END:VEVENT
BEGIN:VEVENT
DTSTART;TZID=UTC:20240702T183000
DTEND;TZID=UTC:20240702T203000
DTSTAMP:20260421T120956
CREATED:20240419T164232Z
LAST-MODIFIED:20240419T164232Z
UID:29181-1719945000-1719952200@elbuen.org
SUMMARY:Virtual ESL Classes (Summer Semester)
DESCRIPTION:
URL:https://elbuen.org/event/virtual-esl-classes-summer-semester-2024-07-02-2/
END:VEVENT
BEGIN:VEVENT
DTSTART;TZID=UTC:20240703T093000
DTEND;TZID=UTC:20240703T233000
DTSTAMP:20260421T120956
CREATED:20240419T164232Z
LAST-MODIFIED:20240419T164232Z
UID:29182-1719999000-1720049400@elbuen.org
SUMMARY:Virtual ESL Classes (Summer Semester)
DESCRIPTION:
URL:https://elbuen.org/event/virtual-esl-classes-summer-semester-2024-07-03/
END:VEVENT
BEGIN:VEVENT
DTSTART;TZID=UTC:20240703T183000
DTEND;TZID=UTC:20240703T203000
DTSTAMP:20260421T120956
CREATED:20240419T164232Z
LAST-MODIFIED:20240419T164232Z
UID:29183-1720031400-1720038600@elbuen.org
SUMMARY:Virtual ESL Classes (Summer Semester)
DESCRIPTION:
URL:https://elbuen.org/event/virtual-esl-classes-summer-semester-2024-07-03-2/
END:VEVENT
BEGIN:VEVENT
DTSTART;TZID=UTC:20240704T093000
DTEND;TZID=UTC:20240704T233000
DTSTAMP:20260421T120956
CREATED:20240419T164232Z
LAST-MODIFIED:20240419T164232Z
UID:29184-1720085400-1720135800@elbuen.org
SUMMARY:Virtual ESL Classes (Summer Semester)
DESCRIPTION:
URL:https://elbuen.org/event/virtual-esl-classes-summer-semester-2024-07-04/
END:VEVENT
BEGIN:VEVENT
DTSTART;TZID=UTC:20240704T100000
DTEND;TZID=UTC:20240704T120000
DTSTAMP:20260421T120956
CREATED:20240419T164520Z
LAST-MODIFIED:20240419T164520Z
UID:29196-1720087200-1720094400@elbuen.org
SUMMARY:In-Person Digital Literacy Classes (Summer Semester)
DESCRIPTION:
URL:https://elbuen.org/event/in-person-digital-literacy-classes-summer-semester-2024-07-04/
END:VEVENT
BEGIN:VEVENT
DTSTART;TZID=UTC:20240704T183000
DTEND;TZID=UTC:20240704T203000
DTSTAMP:20260421T120956
CREATED:20240419T164232Z
LAST-MODIFIED:20240419T164232Z
UID:29185-1720117800-1720125000@elbuen.org
SUMMARY:Virtual ESL Classes (Summer Semester)
DESCRIPTION:
URL:https://elbuen.org/event/virtual-esl-classes-summer-semester-2024-07-04-2/
END:VEVENT
BEGIN:VEVENT
DTSTART;TZID=UTC:20240708T093000
DTEND;TZID=UTC:20240708T233000
DTSTAMP:20260421T120956
CREATED:20240523T021319Z
LAST-MODIFIED:20240523T021319Z
UID:29372-1720431000-1720481400@elbuen.org
SUMMARY:Virtual ESL Classes (Summer Semester)
DESCRIPTION:
URL:https://elbuen.org/event/virtual-esl-classes-summer-semester-2-2024-07-08/
END:VEVENT
BEGIN:VEVENT
DTSTART;TZID=UTC:20240708T183000
DTEND;TZID=UTC:20240708T203000
DTSTAMP:20260421T120956
CREATED:20240523T021319Z
LAST-MODIFIED:20240523T021319Z
UID:29373-1720463400-1720470600@elbuen.org
SUMMARY:Virtual ESL Classes (Summer Semester)
DESCRIPTION:
URL:https://elbuen.org/event/virtual-esl-classes-summer-semester-2-2024-07-08-2/
END:VEVENT
END:VCALENDAR