BEGIN:VCALENDAR
VERSION:2.0
PRODID:-//El Buen Samaritano - ECPv6.15.20//NONSGML v1.0//EN
CALSCALE:GREGORIAN
METHOD:PUBLISH
X-WR-CALNAME:El Buen Samaritano
X-ORIGINAL-URL:https://elbuen.org
X-WR-CALDESC:Events for El Buen Samaritano
REFRESH-INTERVAL;VALUE=DURATION:PT1H
X-Robots-Tag:noindex
X-PUBLISHED-TTL:PT1H
BEGIN:VTIMEZONE
TZID:UTC
BEGIN:STANDARD
TZOFFSETFROM:+0000
TZOFFSETTO:+0000
TZNAME:UTC
DTSTART:20240101T000000
END:STANDARD
END:VTIMEZONE
BEGIN:VEVENT
DTSTART;VALUE=DATE:20250903
DTEND;VALUE=DATE:20250904
DTSTAMP:20260425T130124
CREATED:20251112T222508Z
LAST-MODIFIED:20251112T222745Z
UID:32290-1756857600-1756943999@elbuen.org
SUMMARY:Education- Fall Semester
DESCRIPTION:
URL:https://elbuen.org/event/education-fall-semester-2025-09-03/
END:VEVENT
BEGIN:VEVENT
DTSTART;VALUE=DATE:20250904
DTEND;VALUE=DATE:20250905
DTSTAMP:20260425T130124
CREATED:20251112T222508Z
LAST-MODIFIED:20251112T222746Z
UID:32291-1756944000-1757030399@elbuen.org
SUMMARY:Education- Fall Semester
DESCRIPTION:
URL:https://elbuen.org/event/education-fall-semester-2025-09-04/
END:VEVENT
BEGIN:VEVENT
DTSTART;TZID=UTC:20250904T083000
DTEND;TZID=UTC:20250904T103000
DTSTAMP:20260425T130124
CREATED:20250519T150248Z
LAST-MODIFIED:20250519T150248Z
UID:32076-1756974600-1756981800@elbuen.org
SUMMARY:On-Site Food Pantry
DESCRIPTION:On-Site Food Pantry– 7000 Woodhue Dr. Austin\, TX 78745\nTuesdays and Thursdays / Martes y Jueves\n8:30am-10:30am or until supplies last/ o hasta agotar existencias
URL:https://elbuen.org/event/on-site-food-pantry-7-2025-09-04/
END:VEVENT
BEGIN:VEVENT
DTSTART;VALUE=DATE:20250905
DTEND;VALUE=DATE:20250906
DTSTAMP:20260425T130124
CREATED:20251112T222508Z
LAST-MODIFIED:20251112T222747Z
UID:32292-1757030400-1757116799@elbuen.org
SUMMARY:Education- Fall Semester
DESCRIPTION:
URL:https://elbuen.org/event/education-fall-semester-2025-09-05/
END:VEVENT
BEGIN:VEVENT
DTSTART;TZID=UTC:20250905T083000
DTEND;TZID=UTC:20250905T100000
DTSTAMP:20260425T130124
CREATED:20250519T151238Z
LAST-MODIFIED:20250519T151238Z
UID:31253-1757061000-1757066400@elbuen.org
SUMMARY:Mobile Pantry
DESCRIPTION:
URL:https://elbuen.org/event/mobile-pantry-2025-09-05/
END:VEVENT
BEGIN:VEVENT
DTSTART;VALUE=DATE:20250908
DTEND;VALUE=DATE:20250909
DTSTAMP:20260425T130124
CREATED:20251112T222508Z
LAST-MODIFIED:20251112T222747Z
UID:32295-1757289600-1757375999@elbuen.org
SUMMARY:Education- Fall Semester
DESCRIPTION:
URL:https://elbuen.org/event/education-fall-semester-2025-09-08/
END:VEVENT
BEGIN:VEVENT
DTSTART;VALUE=DATE:20250909
DTEND;VALUE=DATE:20250910
DTSTAMP:20260425T130124
CREATED:20251112T222508Z
LAST-MODIFIED:20251112T222748Z
UID:32296-1757376000-1757462399@elbuen.org
SUMMARY:Education- Fall Semester
DESCRIPTION:
URL:https://elbuen.org/event/education-fall-semester-2025-09-09/
END:VEVENT
BEGIN:VEVENT
DTSTART;TZID=UTC:20250909T083000
DTEND;TZID=UTC:20250909T103000
DTSTAMP:20260425T130124
CREATED:20250519T150248Z
LAST-MODIFIED:20250519T150248Z
UID:32077-1757406600-1757413800@elbuen.org
SUMMARY:On-Site Food Pantry
DESCRIPTION:On-Site Food Pantry– 7000 Woodhue Dr. Austin\, TX 78745\nTuesdays and Thursdays / Martes y Jueves\n8:30am-10:30am or until supplies last/ o hasta agotar existencias
URL:https://elbuen.org/event/on-site-food-pantry-7-2025-09-09/
END:VEVENT
BEGIN:VEVENT
DTSTART;VALUE=DATE:20250910
DTEND;VALUE=DATE:20250911
DTSTAMP:20260425T130124
CREATED:20251112T222508Z
LAST-MODIFIED:20251112T222748Z
UID:32297-1757462400-1757548799@elbuen.org
SUMMARY:Education- Fall Semester
DESCRIPTION:
URL:https://elbuen.org/event/education-fall-semester-2025-09-10/
END:VEVENT
BEGIN:VEVENT
DTSTART;VALUE=DATE:20250911
DTEND;VALUE=DATE:20250912
DTSTAMP:20260425T130124
CREATED:20251112T222508Z
LAST-MODIFIED:20251112T222749Z
UID:32298-1757548800-1757635199@elbuen.org
SUMMARY:Education- Fall Semester
DESCRIPTION:
URL:https://elbuen.org/event/education-fall-semester-2025-09-11/
END:VEVENT
BEGIN:VEVENT
DTSTART;TZID=UTC:20250911T083000
DTEND;TZID=UTC:20250911T103000
DTSTAMP:20260425T130124
CREATED:20250519T150248Z
LAST-MODIFIED:20250519T150248Z
UID:32078-1757579400-1757586600@elbuen.org
SUMMARY:On-Site Food Pantry
DESCRIPTION:On-Site Food Pantry– 7000 Woodhue Dr. Austin\, TX 78745\nTuesdays and Thursdays / Martes y Jueves\n8:30am-10:30am or until supplies last/ o hasta agotar existencias
URL:https://elbuen.org/event/on-site-food-pantry-7-2025-09-11/
END:VEVENT
BEGIN:VEVENT
DTSTART;VALUE=DATE:20250912
DTEND;VALUE=DATE:20250913
DTSTAMP:20260425T130124
CREATED:20251112T222508Z
LAST-MODIFIED:20251112T222750Z
UID:32299-1757635200-1757721599@elbuen.org
SUMMARY:Education- Fall Semester
DESCRIPTION:
URL:https://elbuen.org/event/education-fall-semester-2025-09-12/
END:VEVENT
BEGIN:VEVENT
DTSTART;TZID=UTC:20250912T083000
DTEND;TZID=UTC:20250912T100000
DTSTAMP:20260425T130124
CREATED:20250519T151238Z
LAST-MODIFIED:20250519T151238Z
UID:31254-1757665800-1757671200@elbuen.org
SUMMARY:Mobile Pantry
DESCRIPTION:
URL:https://elbuen.org/event/mobile-pantry-2025-09-12/
END:VEVENT
BEGIN:VEVENT
DTSTART;VALUE=DATE:20250915
DTEND;VALUE=DATE:20250916
DTSTAMP:20260425T130124
CREATED:20251112T222508Z
LAST-MODIFIED:20251112T222751Z
UID:32302-1757894400-1757980799@elbuen.org
SUMMARY:Education- Fall Semester
DESCRIPTION:
URL:https://elbuen.org/event/education-fall-semester-2025-09-15/
END:VEVENT
BEGIN:VEVENT
DTSTART;VALUE=DATE:20250916
DTEND;VALUE=DATE:20250917
DTSTAMP:20260425T130124
CREATED:20251112T222508Z
LAST-MODIFIED:20251112T222752Z
UID:32303-1757980800-1758067199@elbuen.org
SUMMARY:Education- Fall Semester
DESCRIPTION:
URL:https://elbuen.org/event/education-fall-semester-2025-09-16/
END:VEVENT
BEGIN:VEVENT
DTSTART;TZID=UTC:20250916T083000
DTEND;TZID=UTC:20250916T103000
DTSTAMP:20260425T130124
CREATED:20250519T150248Z
LAST-MODIFIED:20250519T150248Z
UID:32079-1758011400-1758018600@elbuen.org
SUMMARY:On-Site Food Pantry
DESCRIPTION:On-Site Food Pantry– 7000 Woodhue Dr. Austin\, TX 78745\nTuesdays and Thursdays / Martes y Jueves\n8:30am-10:30am or until supplies last/ o hasta agotar existencias
URL:https://elbuen.org/event/on-site-food-pantry-7-2025-09-16/
END:VEVENT
BEGIN:VEVENT
DTSTART;VALUE=DATE:20250917
DTEND;VALUE=DATE:20250918
DTSTAMP:20260425T130124
CREATED:20251112T222508Z
LAST-MODIFIED:20251112T222752Z
UID:32304-1758067200-1758153599@elbuen.org
SUMMARY:Education- Fall Semester
DESCRIPTION:
URL:https://elbuen.org/event/education-fall-semester-2025-09-17/
END:VEVENT
BEGIN:VEVENT
DTSTART;VALUE=DATE:20250918
DTEND;VALUE=DATE:20250919
DTSTAMP:20260425T130124
CREATED:20251112T222508Z
LAST-MODIFIED:20251112T222753Z
UID:32305-1758153600-1758239999@elbuen.org
SUMMARY:Education- Fall Semester
DESCRIPTION:
URL:https://elbuen.org/event/education-fall-semester-2025-09-18/
END:VEVENT
BEGIN:VEVENT
DTSTART;TZID=UTC:20250918T083000
DTEND;TZID=UTC:20250918T103000
DTSTAMP:20260425T130124
CREATED:20250519T150248Z
LAST-MODIFIED:20250519T150248Z
UID:32080-1758184200-1758191400@elbuen.org
SUMMARY:On-Site Food Pantry
DESCRIPTION:On-Site Food Pantry– 7000 Woodhue Dr. Austin\, TX 78745\nTuesdays and Thursdays / Martes y Jueves\n8:30am-10:30am or until supplies last/ o hasta agotar existencias
URL:https://elbuen.org/event/on-site-food-pantry-7-2025-09-18/
END:VEVENT
BEGIN:VEVENT
DTSTART;VALUE=DATE:20250919
DTEND;VALUE=DATE:20250920
DTSTAMP:20260425T130124
CREATED:20251112T222508Z
LAST-MODIFIED:20251112T222754Z
UID:32306-1758240000-1758326399@elbuen.org
SUMMARY:Education- Fall Semester
DESCRIPTION:
URL:https://elbuen.org/event/education-fall-semester-2025-09-19/
END:VEVENT
BEGIN:VEVENT
DTSTART;TZID=UTC:20250919T083000
DTEND;TZID=UTC:20250919T100000
DTSTAMP:20260425T130124
CREATED:20250519T151238Z
LAST-MODIFIED:20250519T151238Z
UID:31255-1758270600-1758276000@elbuen.org
SUMMARY:Mobile Pantry
DESCRIPTION:
URL:https://elbuen.org/event/mobile-pantry-2025-09-19/
END:VEVENT
BEGIN:VEVENT
DTSTART;VALUE=DATE:20250922
DTEND;VALUE=DATE:20250923
DTSTAMP:20260425T130124
CREATED:20251112T222508Z
LAST-MODIFIED:20251112T222754Z
UID:32309-1758499200-1758585599@elbuen.org
SUMMARY:Education- Fall Semester
DESCRIPTION:
URL:https://elbuen.org/event/education-fall-semester-2025-09-22/
END:VEVENT
BEGIN:VEVENT
DTSTART;VALUE=DATE:20250923
DTEND;VALUE=DATE:20250924
DTSTAMP:20260425T130124
CREATED:20251112T222508Z
LAST-MODIFIED:20251112T222755Z
UID:32310-1758585600-1758671999@elbuen.org
SUMMARY:Education- Fall Semester
DESCRIPTION:
URL:https://elbuen.org/event/education-fall-semester-2025-09-23/
END:VEVENT
BEGIN:VEVENT
DTSTART;TZID=UTC:20250923T083000
DTEND;TZID=UTC:20250923T103000
DTSTAMP:20260425T130124
CREATED:20250519T150248Z
LAST-MODIFIED:20250519T150248Z
UID:32081-1758616200-1758623400@elbuen.org
SUMMARY:On-Site Food Pantry
DESCRIPTION:On-Site Food Pantry– 7000 Woodhue Dr. Austin\, TX 78745\nTuesdays and Thursdays / Martes y Jueves\n8:30am-10:30am or until supplies last/ o hasta agotar existencias
URL:https://elbuen.org/event/on-site-food-pantry-7-2025-09-23/
END:VEVENT
BEGIN:VEVENT
DTSTART;VALUE=DATE:20250924
DTEND;VALUE=DATE:20250925
DTSTAMP:20260425T130124
CREATED:20251112T222508Z
LAST-MODIFIED:20251112T222756Z
UID:32311-1758672000-1758758399@elbuen.org
SUMMARY:Education- Fall Semester
DESCRIPTION:
URL:https://elbuen.org/event/education-fall-semester-2025-09-24/
END:VEVENT
BEGIN:VEVENT
DTSTART;TZID=UTC:20250924T083000
DTEND;TZID=UTC:20250924T100000
DTSTAMP:20260425T130124
CREATED:20250519T151527Z
LAST-MODIFIED:20250519T151527Z
UID:31260-1758702600-1758708000@elbuen.org
SUMMARY:Mobile Pantry
DESCRIPTION:
URL:https://elbuen.org/event/mobile-pantry-2-2025-09-24/
END:VEVENT
BEGIN:VEVENT
DTSTART;VALUE=DATE:20250925
DTEND;VALUE=DATE:20250926
DTSTAMP:20260425T130124
CREATED:20251112T222508Z
LAST-MODIFIED:20251112T222757Z
UID:32312-1758758400-1758844799@elbuen.org
SUMMARY:Education- Fall Semester
DESCRIPTION:
URL:https://elbuen.org/event/education-fall-semester-2025-09-25/
END:VEVENT
BEGIN:VEVENT
DTSTART;TZID=UTC:20250925T083000
DTEND;TZID=UTC:20250925T103000
DTSTAMP:20260425T130124
CREATED:20250519T150248Z
LAST-MODIFIED:20250519T150248Z
UID:32082-1758789000-1758796200@elbuen.org
SUMMARY:On-Site Food Pantry
DESCRIPTION:On-Site Food Pantry– 7000 Woodhue Dr. Austin\, TX 78745\nTuesdays and Thursdays / Martes y Jueves\n8:30am-10:30am or until supplies last/ o hasta agotar existencias
URL:https://elbuen.org/event/on-site-food-pantry-7-2025-09-25/
END:VEVENT
BEGIN:VEVENT
DTSTART;VALUE=DATE:20250926
DTEND;VALUE=DATE:20250927
DTSTAMP:20260425T130124
CREATED:20251112T222508Z
LAST-MODIFIED:20251112T222757Z
UID:32313-1758844800-1758931199@elbuen.org
SUMMARY:Education- Fall Semester
DESCRIPTION:
URL:https://elbuen.org/event/education-fall-semester-2025-09-26/
END:VEVENT
BEGIN:VEVENT
DTSTART;TZID=UTC:20250926T083000
DTEND;TZID=UTC:20250926T100000
DTSTAMP:20260425T130124
CREATED:20250519T151238Z
LAST-MODIFIED:20250519T151238Z
UID:31256-1758875400-1758880800@elbuen.org
SUMMARY:Mobile Pantry
DESCRIPTION:
URL:https://elbuen.org/event/mobile-pantry-2025-09-26/
END:VEVENT
END:VCALENDAR