BEGIN:VCALENDAR
VERSION:2.0
PRODID:-//El Buen Samaritano - ECPv6.15.20//NONSGML v1.0//EN
CALSCALE:GREGORIAN
METHOD:PUBLISH
X-WR-CALNAME:El Buen Samaritano
X-ORIGINAL-URL:https://elbuen.org
X-WR-CALDESC:Events for El Buen Samaritano
REFRESH-INTERVAL;VALUE=DURATION:PT1H
X-Robots-Tag:noindex
X-PUBLISHED-TTL:PT1H
BEGIN:VTIMEZONE
TZID:UTC
BEGIN:STANDARD
TZOFFSETFROM:+0000
TZOFFSETTO:+0000
TZNAME:UTC
DTSTART:20240101T000000
END:STANDARD
END:VTIMEZONE
BEGIN:VEVENT
DTSTART;TZID=UTC:20250930T083000
DTEND;TZID=UTC:20250930T103000
DTSTAMP:20260425T113123
CREATED:20250519T150248Z
LAST-MODIFIED:20250519T150248Z
UID:32083-1759221000-1759228200@elbuen.org
SUMMARY:On-Site Food Pantry
DESCRIPTION:On-Site Food Pantry– 7000 Woodhue Dr. Austin\, TX 78745\nTuesdays and Thursdays / Martes y Jueves\n8:30am-10:30am or until supplies last/ o hasta agotar existencias
URL:https://elbuen.org/event/on-site-food-pantry-7-2025-09-30/
END:VEVENT
BEGIN:VEVENT
DTSTART;VALUE=DATE:20251001
DTEND;VALUE=DATE:20251002
DTSTAMP:20260425T113123
CREATED:20251112T222508Z
LAST-MODIFIED:20251112T222800Z
UID:32318-1759276800-1759363199@elbuen.org
SUMMARY:Education- Fall Semester
DESCRIPTION:
URL:https://elbuen.org/event/education-fall-semester-2025-10-01/
END:VEVENT
BEGIN:VEVENT
DTSTART;VALUE=DATE:20251002
DTEND;VALUE=DATE:20251003
DTSTAMP:20260425T113123
CREATED:20251112T222508Z
LAST-MODIFIED:20251112T222800Z
UID:32319-1759363200-1759449599@elbuen.org
SUMMARY:Education- Fall Semester
DESCRIPTION:
URL:https://elbuen.org/event/education-fall-semester-2025-10-02/
END:VEVENT
BEGIN:VEVENT
DTSTART;TZID=UTC:20251002T083000
DTEND;TZID=UTC:20251002T103000
DTSTAMP:20260425T113123
CREATED:20250519T150248Z
LAST-MODIFIED:20250519T150248Z
UID:32084-1759393800-1759401000@elbuen.org
SUMMARY:On-Site Food Pantry
DESCRIPTION:On-Site Food Pantry– 7000 Woodhue Dr. Austin\, TX 78745\nTuesdays and Thursdays / Martes y Jueves\n8:30am-10:30am or until supplies last/ o hasta agotar existencias
URL:https://elbuen.org/event/on-site-food-pantry-7-2025-10-02/
END:VEVENT
BEGIN:VEVENT
DTSTART;VALUE=DATE:20251003
DTEND;VALUE=DATE:20251004
DTSTAMP:20260425T113123
CREATED:20251112T222508Z
LAST-MODIFIED:20251112T222801Z
UID:32320-1759449600-1759535999@elbuen.org
SUMMARY:Education- Fall Semester
DESCRIPTION:
URL:https://elbuen.org/event/education-fall-semester-2025-10-03/
END:VEVENT
BEGIN:VEVENT
DTSTART;TZID=UTC:20251003T083000
DTEND;TZID=UTC:20251003T103000
DTSTAMP:20260425T113123
CREATED:20250923T183622Z
LAST-MODIFIED:20250923T183632Z
UID:31970-1759480200-1759487400@elbuen.org
SUMMARY:Mobile Pantry
DESCRIPTION:
URL:https://elbuen.org/event/mobile-pantry-3/
END:VEVENT
BEGIN:VEVENT
DTSTART;VALUE=DATE:20251006
DTEND;VALUE=DATE:20251007
DTSTAMP:20260425T113123
CREATED:20251112T222508Z
LAST-MODIFIED:20251112T222802Z
UID:32323-1759708800-1759795199@elbuen.org
SUMMARY:Education- Fall Semester
DESCRIPTION:
URL:https://elbuen.org/event/education-fall-semester-2025-10-06/
END:VEVENT
BEGIN:VEVENT
DTSTART;VALUE=DATE:20251007
DTEND;VALUE=DATE:20251008
DTSTAMP:20260425T113123
CREATED:20251112T222508Z
LAST-MODIFIED:20251112T222802Z
UID:32324-1759795200-1759881599@elbuen.org
SUMMARY:Education- Fall Semester
DESCRIPTION:
URL:https://elbuen.org/event/education-fall-semester-2025-10-07/
END:VEVENT
BEGIN:VEVENT
DTSTART;TZID=UTC:20251007T083000
DTEND;TZID=UTC:20251007T103000
DTSTAMP:20260425T113123
CREATED:20250519T150248Z
LAST-MODIFIED:20250519T150248Z
UID:32085-1759825800-1759833000@elbuen.org
SUMMARY:On-Site Food Pantry
DESCRIPTION:On-Site Food Pantry– 7000 Woodhue Dr. Austin\, TX 78745\nTuesdays and Thursdays / Martes y Jueves\n8:30am-10:30am or until supplies last/ o hasta agotar existencias
URL:https://elbuen.org/event/on-site-food-pantry-7-2025-10-07/
END:VEVENT
BEGIN:VEVENT
DTSTART;VALUE=DATE:20251008
DTEND;VALUE=DATE:20251009
DTSTAMP:20260425T113123
CREATED:20251112T222508Z
LAST-MODIFIED:20251112T222803Z
UID:32325-1759881600-1759967999@elbuen.org
SUMMARY:Education- Fall Semester
DESCRIPTION:
URL:https://elbuen.org/event/education-fall-semester-2025-10-08/
END:VEVENT
BEGIN:VEVENT
DTSTART;VALUE=DATE:20251009
DTEND;VALUE=DATE:20251010
DTSTAMP:20260425T113123
CREATED:20251112T222508Z
LAST-MODIFIED:20251112T222807Z
UID:32326-1759968000-1760054399@elbuen.org
SUMMARY:Education- Fall Semester
DESCRIPTION:
URL:https://elbuen.org/event/education-fall-semester-2025-10-09/
END:VEVENT
BEGIN:VEVENT
DTSTART;TZID=UTC:20251009T083000
DTEND;TZID=UTC:20251009T103000
DTSTAMP:20260425T113123
CREATED:20250519T150248Z
LAST-MODIFIED:20250519T150248Z
UID:32086-1759998600-1760005800@elbuen.org
SUMMARY:On-Site Food Pantry
DESCRIPTION:On-Site Food Pantry– 7000 Woodhue Dr. Austin\, TX 78745\nTuesdays and Thursdays / Martes y Jueves\n8:30am-10:30am or until supplies last/ o hasta agotar existencias
URL:https://elbuen.org/event/on-site-food-pantry-7-2025-10-09/
END:VEVENT
BEGIN:VEVENT
DTSTART;VALUE=DATE:20251010
DTEND;VALUE=DATE:20251011
DTSTAMP:20260425T113123
CREATED:20251112T222508Z
LAST-MODIFIED:20251112T222809Z
UID:32327-1760054400-1760140799@elbuen.org
SUMMARY:Education- Fall Semester
DESCRIPTION:
URL:https://elbuen.org/event/education-fall-semester-2025-10-10/
END:VEVENT
BEGIN:VEVENT
DTSTART;TZID=UTC:20251010T083000
DTEND;TZID=UTC:20251010T103000
DTSTAMP:20260425T113123
CREATED:20250923T183622Z
LAST-MODIFIED:20250923T183633Z
UID:31973-1760085000-1760092200@elbuen.org
SUMMARY:Mobile Pantry
DESCRIPTION:
URL:https://elbuen.org/event/mobile-pantry-3-2025-10-10/
END:VEVENT
BEGIN:VEVENT
DTSTART;VALUE=DATE:20251013
DTEND;VALUE=DATE:20251014
DTSTAMP:20260425T113123
CREATED:20251112T222508Z
LAST-MODIFIED:20251112T222508Z
UID:32330-1760313600-1760399999@elbuen.org
SUMMARY:Education- Fall Semester
DESCRIPTION:
URL:https://elbuen.org/event/education-fall-semester-2025-10-13/
END:VEVENT
BEGIN:VEVENT
DTSTART;VALUE=DATE:20251014
DTEND;VALUE=DATE:20251015
DTSTAMP:20260425T113123
CREATED:20251112T222508Z
LAST-MODIFIED:20251112T222508Z
UID:32331-1760400000-1760486399@elbuen.org
SUMMARY:Education- Fall Semester
DESCRIPTION:
URL:https://elbuen.org/event/education-fall-semester-2025-10-14/
END:VEVENT
BEGIN:VEVENT
DTSTART;TZID=UTC:20251014T083000
DTEND;TZID=UTC:20251014T103000
DTSTAMP:20260425T113123
CREATED:20250519T150248Z
LAST-MODIFIED:20250519T150248Z
UID:32087-1760430600-1760437800@elbuen.org
SUMMARY:On-Site Food Pantry
DESCRIPTION:On-Site Food Pantry– 7000 Woodhue Dr. Austin\, TX 78745\nTuesdays and Thursdays / Martes y Jueves\n8:30am-10:30am or until supplies last/ o hasta agotar existencias
URL:https://elbuen.org/event/on-site-food-pantry-7-2025-10-14/
END:VEVENT
BEGIN:VEVENT
DTSTART;TZID=UTC:20251014T100000
DTEND;TZID=UTC:20251014T120000
DTSTAMP:20260425T113123
CREATED:20250922T181425Z
LAST-MODIFIED:20250922T181702Z
UID:31962-1760436000-1760443200@elbuen.org
SUMMARY:Vaccine Clinic
DESCRIPTION:
URL:https://elbuen.org/event/vaccine-clinic/
END:VEVENT
BEGIN:VEVENT
DTSTART;VALUE=DATE:20251015
DTEND;VALUE=DATE:20251016
DTSTAMP:20260425T113123
CREATED:20251112T222508Z
LAST-MODIFIED:20251112T222508Z
UID:32332-1760486400-1760572799@elbuen.org
SUMMARY:Education- Fall Semester
DESCRIPTION:
URL:https://elbuen.org/event/education-fall-semester-2025-10-15/
END:VEVENT
BEGIN:VEVENT
DTSTART;VALUE=DATE:20251016
DTEND;VALUE=DATE:20251017
DTSTAMP:20260425T113123
CREATED:20251112T222508Z
LAST-MODIFIED:20251112T222508Z
UID:32333-1760572800-1760659199@elbuen.org
SUMMARY:Education- Fall Semester
DESCRIPTION:
URL:https://elbuen.org/event/education-fall-semester-2025-10-16/
END:VEVENT
BEGIN:VEVENT
DTSTART;TZID=UTC:20251016T083000
DTEND;TZID=UTC:20251016T103000
DTSTAMP:20260425T113123
CREATED:20250519T150248Z
LAST-MODIFIED:20250519T150248Z
UID:32088-1760603400-1760610600@elbuen.org
SUMMARY:On-Site Food Pantry
DESCRIPTION:On-Site Food Pantry– 7000 Woodhue Dr. Austin\, TX 78745\nTuesdays and Thursdays / Martes y Jueves\n8:30am-10:30am or until supplies last/ o hasta agotar existencias
URL:https://elbuen.org/event/on-site-food-pantry-7-2025-10-16/
END:VEVENT
BEGIN:VEVENT
DTSTART;VALUE=DATE:20251017
DTEND;VALUE=DATE:20251018
DTSTAMP:20260425T113123
CREATED:20251112T222508Z
LAST-MODIFIED:20251112T222508Z
UID:32334-1760659200-1760745599@elbuen.org
SUMMARY:Education- Fall Semester
DESCRIPTION:
URL:https://elbuen.org/event/education-fall-semester-2025-10-17/
END:VEVENT
BEGIN:VEVENT
DTSTART;TZID=UTC:20251017T083000
DTEND;TZID=UTC:20251017T103000
DTSTAMP:20260425T113123
CREATED:20250923T183622Z
LAST-MODIFIED:20250923T183637Z
UID:31974-1760689800-1760697000@elbuen.org
SUMMARY:Mobile Pantry
DESCRIPTION:
URL:https://elbuen.org/event/mobile-pantry-3-2025-10-17/
END:VEVENT
BEGIN:VEVENT
DTSTART;VALUE=DATE:20251020
DTEND;VALUE=DATE:20251021
DTSTAMP:20260425T113123
CREATED:20251112T222508Z
LAST-MODIFIED:20251112T222508Z
UID:32337-1760918400-1761004799@elbuen.org
SUMMARY:Education- Fall Semester
DESCRIPTION:
URL:https://elbuen.org/event/education-fall-semester-2025-10-20/
END:VEVENT
BEGIN:VEVENT
DTSTART;VALUE=DATE:20251021
DTEND;VALUE=DATE:20251022
DTSTAMP:20260425T113123
CREATED:20251112T222508Z
LAST-MODIFIED:20251112T222508Z
UID:32338-1761004800-1761091199@elbuen.org
SUMMARY:Education- Fall Semester
DESCRIPTION:
URL:https://elbuen.org/event/education-fall-semester-2025-10-21/
END:VEVENT
BEGIN:VEVENT
DTSTART;TZID=UTC:20251021T083000
DTEND;TZID=UTC:20251021T103000
DTSTAMP:20260425T113123
CREATED:20250519T150248Z
LAST-MODIFIED:20250519T150248Z
UID:32089-1761035400-1761042600@elbuen.org
SUMMARY:On-Site Food Pantry
DESCRIPTION:On-Site Food Pantry– 7000 Woodhue Dr. Austin\, TX 78745\nTuesdays and Thursdays / Martes y Jueves\n8:30am-10:30am or until supplies last/ o hasta agotar existencias
URL:https://elbuen.org/event/on-site-food-pantry-7-2025-10-21/
END:VEVENT
BEGIN:VEVENT
DTSTART;VALUE=DATE:20251022
DTEND;VALUE=DATE:20251023
DTSTAMP:20260425T113123
CREATED:20251112T222508Z
LAST-MODIFIED:20251112T222508Z
UID:32339-1761091200-1761177599@elbuen.org
SUMMARY:Education- Fall Semester
DESCRIPTION:
URL:https://elbuen.org/event/education-fall-semester-2025-10-22/
END:VEVENT
BEGIN:VEVENT
DTSTART;VALUE=DATE:20251023
DTEND;VALUE=DATE:20251024
DTSTAMP:20260425T113123
CREATED:20251112T222508Z
LAST-MODIFIED:20251112T222508Z
UID:32340-1761177600-1761263999@elbuen.org
SUMMARY:Education- Fall Semester
DESCRIPTION:
URL:https://elbuen.org/event/education-fall-semester-2025-10-23/
END:VEVENT
BEGIN:VEVENT
DTSTART;TZID=UTC:20251023T083000
DTEND;TZID=UTC:20251023T103000
DTSTAMP:20260425T113123
CREATED:20250519T150248Z
LAST-MODIFIED:20250519T150248Z
UID:32090-1761208200-1761215400@elbuen.org
SUMMARY:On-Site Food Pantry
DESCRIPTION:On-Site Food Pantry– 7000 Woodhue Dr. Austin\, TX 78745\nTuesdays and Thursdays / Martes y Jueves\n8:30am-10:30am or until supplies last/ o hasta agotar existencias
URL:https://elbuen.org/event/on-site-food-pantry-7-2025-10-23/
END:VEVENT
BEGIN:VEVENT
DTSTART;VALUE=DATE:20251024
DTEND;VALUE=DATE:20251025
DTSTAMP:20260425T113123
CREATED:20251112T222508Z
LAST-MODIFIED:20251112T222508Z
UID:32341-1761264000-1761350399@elbuen.org
SUMMARY:Education- Fall Semester
DESCRIPTION:
URL:https://elbuen.org/event/education-fall-semester-2025-10-24/
END:VEVENT
END:VCALENDAR