BEGIN:VCALENDAR
VERSION:2.0
PRODID:-//El Buen Samaritano - ECPv6.15.20//NONSGML v1.0//EN
CALSCALE:GREGORIAN
METHOD:PUBLISH
X-WR-CALNAME:El Buen Samaritano
X-ORIGINAL-URL:https://elbuen.org
X-WR-CALDESC:Events for El Buen Samaritano
REFRESH-INTERVAL;VALUE=DURATION:PT1H
X-Robots-Tag:noindex
X-PUBLISHED-TTL:PT1H
BEGIN:VTIMEZONE
TZID:UTC
BEGIN:STANDARD
TZOFFSETFROM:+0000
TZOFFSETTO:+0000
TZNAME:UTC
DTSTART:20230101T000000
END:STANDARD
END:VTIMEZONE
BEGIN:VEVENT
DTSTART;TZID=UTC:20240912T160000
DTEND;TZID=UTC:20240912T180000
DTSTAMP:20260421T121912
CREATED:20240910T145240Z
LAST-MODIFIED:20240910T145240Z
UID:30021-1726156800-1726164000@elbuen.org
SUMMARY:Academic Center of Excellence
DESCRIPTION:Youth Academic Support – September 3 – December 6th\n\n\nMon & Tues – Virtual 4pm – 6pm\n\n\nWed & Thurs – In person 4pm – 6pm\n\n\nEvery other Friday\, STEAM Enrichment\n\n\nApoyo Académico – 3 de septiembre al 6 de diciembre \n\n\nLunes y Martes – Virtual 4pm – 6pm\n\n\nMiercoles y Jueves – In person 4pm – 6pm\n\n\nCada dos viernes\, Enriquecimiento STEAM
URL:https://elbuen.org/event/academic-center-of-excellence-2024-09-12/
END:VEVENT
BEGIN:VEVENT
DTSTART;TZID=UTC:20240912T103000
DTEND;TZID=UTC:20240912T120000
DTSTAMP:20260421T121912
CREATED:20240910T144236Z
LAST-MODIFIED:20240910T144236Z
UID:29984-1726137000-1726142400@elbuen.org
SUMMARY:Adult Computer Classes
DESCRIPTION:Adult Computer Classes – September 3 – December 19\n\n\nTues and Thurs\, 10:30am – 12pm\n\n\nClases de computación – 3 de septiembre al 19 de diciembre \n\nMartes y Jueves de  10:30am a 12pm
URL:https://elbuen.org/event/adult-computer-classes-2024-09-12/
END:VEVENT
BEGIN:VEVENT
DTSTART;TZID=UTC:20240912T093000
DTEND;TZID=UTC:20240912T113000
DTSTAMP:20260421T121912
CREATED:20240910T143657Z
LAST-MODIFIED:20240910T143657Z
UID:29894-1726133400-1726140600@elbuen.org
SUMMARY:Adult ESL Classes
DESCRIPTION:Adult ESL – September 3 – December 19\n\n\nTues\, Wed\, Thurs\, 9:30am – 11:30 or  6:30pm – 8:30pm\n\n\nClases de inglés para adultos- 3 de septiembre al 19 de diciembre \n\nMartes\, Miercoles\, y jueves de  9:30am – 11:30 o 6:30pm – 8:30pm
URL:https://elbuen.org/event/adult-esl-classes-2024-09-12/
END:VEVENT
BEGIN:VEVENT
DTSTART;TZID=UTC:20240911T183000
DTEND;TZID=UTC:20240911T203000
DTSTAMP:20260421T121912
CREATED:20240910T143657Z
LAST-MODIFIED:20240910T143657Z
UID:29893-1726079400-1726086600@elbuen.org
SUMMARY:Adult ESL Classes
DESCRIPTION:Adult ESL – September 3 – December 19\n\n\nTues\, Wed\, Thurs\, 9:30am – 11:30 or  6:30pm – 8:30pm\n\n\nClases de inglés para adultos- 3 de septiembre al 19 de diciembre \n\nMartes\, Miercoles\, y jueves de  9:30am – 11:30 o 6:30pm – 8:30pm
URL:https://elbuen.org/event/adult-esl-classes-2024-09-11-2/
END:VEVENT
BEGIN:VEVENT
DTSTART;TZID=UTC:20240911T160000
DTEND;TZID=UTC:20240911T180000
DTSTAMP:20260421T121912
CREATED:20240910T145240Z
LAST-MODIFIED:20240910T145240Z
UID:30020-1726070400-1726077600@elbuen.org
SUMMARY:Academic Center of Excellence
DESCRIPTION:Youth Academic Support – September 3 – December 6th\n\n\nMon & Tues – Virtual 4pm – 6pm\n\n\nWed & Thurs – In person 4pm – 6pm\n\n\nEvery other Friday\, STEAM Enrichment\n\n\nApoyo Académico – 3 de septiembre al 6 de diciembre \n\n\nLunes y Martes – Virtual 4pm – 6pm\n\n\nMiercoles y Jueves – In person 4pm – 6pm\n\n\nCada dos viernes\, Enriquecimiento STEAM
URL:https://elbuen.org/event/academic-center-of-excellence-2024-09-11/
END:VEVENT
BEGIN:VEVENT
DTSTART;TZID=UTC:20240911T093000
DTEND;TZID=UTC:20240911T113000
DTSTAMP:20260421T121912
CREATED:20240910T143657Z
LAST-MODIFIED:20240910T143657Z
UID:29892-1726047000-1726054200@elbuen.org
SUMMARY:Adult ESL Classes
DESCRIPTION:Adult ESL – September 3 – December 19\n\n\nTues\, Wed\, Thurs\, 9:30am – 11:30 or  6:30pm – 8:30pm\n\n\nClases de inglés para adultos- 3 de septiembre al 19 de diciembre \n\nMartes\, Miercoles\, y jueves de  9:30am – 11:30 o 6:30pm – 8:30pm
URL:https://elbuen.org/event/adult-esl-classes-2024-09-11/
END:VEVENT
BEGIN:VEVENT
DTSTART;TZID=UTC:20240910T183000
DTEND;TZID=UTC:20240910T203000
DTSTAMP:20260421T121912
CREATED:20240910T143657Z
LAST-MODIFIED:20240910T143657Z
UID:29891-1725993000-1726000200@elbuen.org
SUMMARY:Adult ESL Classes
DESCRIPTION:Adult ESL – September 3 – December 19\n\n\nTues\, Wed\, Thurs\, 9:30am – 11:30 or  6:30pm – 8:30pm\n\n\nClases de inglés para adultos- 3 de septiembre al 19 de diciembre \n\nMartes\, Miercoles\, y jueves de  9:30am – 11:30 o 6:30pm – 8:30pm
URL:https://elbuen.org/event/adult-esl-classes-2024-09-10-2/
END:VEVENT
BEGIN:VEVENT
DTSTART;TZID=UTC:20240910T160000
DTEND;TZID=UTC:20240910T180000
DTSTAMP:20260421T121912
CREATED:20240910T145240Z
LAST-MODIFIED:20240910T145240Z
UID:30019-1725984000-1725991200@elbuen.org
SUMMARY:Academic Center of Excellence
DESCRIPTION:Youth Academic Support – September 3 – December 6th\n\n\nMon & Tues – Virtual 4pm – 6pm\n\n\nWed & Thurs – In person 4pm – 6pm\n\n\nEvery other Friday\, STEAM Enrichment\n\n\nApoyo Académico – 3 de septiembre al 6 de diciembre \n\n\nLunes y Martes – Virtual 4pm – 6pm\n\n\nMiercoles y Jueves – In person 4pm – 6pm\n\n\nCada dos viernes\, Enriquecimiento STEAM
URL:https://elbuen.org/event/academic-center-of-excellence-2024-09-10/
END:VEVENT
BEGIN:VEVENT
DTSTART;TZID=UTC:20240910T103000
DTEND;TZID=UTC:20240910T120000
DTSTAMP:20260421T121912
CREATED:20240910T144236Z
LAST-MODIFIED:20240910T144236Z
UID:29983-1725964200-1725969600@elbuen.org
SUMMARY:Adult Computer Classes
DESCRIPTION:Adult Computer Classes – September 3 – December 19\n\n\nTues and Thurs\, 10:30am – 12pm\n\n\nClases de computación – 3 de septiembre al 19 de diciembre \n\nMartes y Jueves de  10:30am a 12pm
URL:https://elbuen.org/event/adult-computer-classes-2024-09-10/
END:VEVENT
BEGIN:VEVENT
DTSTART;TZID=UTC:20240910T093000
DTEND;TZID=UTC:20240910T113000
DTSTAMP:20260421T121912
CREATED:20240910T143657Z
LAST-MODIFIED:20240910T143657Z
UID:29890-1725960600-1725967800@elbuen.org
SUMMARY:Adult ESL Classes
DESCRIPTION:Adult ESL – September 3 – December 19\n\n\nTues\, Wed\, Thurs\, 9:30am – 11:30 or  6:30pm – 8:30pm\n\n\nClases de inglés para adultos- 3 de septiembre al 19 de diciembre \n\nMartes\, Miercoles\, y jueves de  9:30am – 11:30 o 6:30pm – 8:30pm
URL:https://elbuen.org/event/adult-esl-classes-2024-09-10/
END:VEVENT
BEGIN:VEVENT
DTSTART;TZID=UTC:20240909T160000
DTEND;TZID=UTC:20240909T180000
DTSTAMP:20260421T121912
CREATED:20240910T145240Z
LAST-MODIFIED:20240910T145240Z
UID:30018-1725897600-1725904800@elbuen.org
SUMMARY:Academic Center of Excellence
DESCRIPTION:Youth Academic Support – September 3 – December 6th\n\n\nMon & Tues – Virtual 4pm – 6pm\n\n\nWed & Thurs – In person 4pm – 6pm\n\n\nEvery other Friday\, STEAM Enrichment\n\n\nApoyo Académico – 3 de septiembre al 6 de diciembre \n\n\nLunes y Martes – Virtual 4pm – 6pm\n\n\nMiercoles y Jueves – In person 4pm – 6pm\n\n\nCada dos viernes\, Enriquecimiento STEAM
URL:https://elbuen.org/event/academic-center-of-excellence-2024-09-09/
END:VEVENT
BEGIN:VEVENT
DTSTART;TZID=UTC:20240906T160000
DTEND;TZID=UTC:20240906T180000
DTSTAMP:20260421T121912
CREATED:20240910T145240Z
LAST-MODIFIED:20240910T145240Z
UID:30017-1725638400-1725645600@elbuen.org
SUMMARY:Academic Center of Excellence
DESCRIPTION:Youth Academic Support – September 3 – December 6th\n\n\nMon & Tues – Virtual 4pm – 6pm\n\n\nWed & Thurs – In person 4pm – 6pm\n\n\nEvery other Friday\, STEAM Enrichment\n\n\nApoyo Académico – 3 de septiembre al 6 de diciembre \n\n\nLunes y Martes – Virtual 4pm – 6pm\n\n\nMiercoles y Jueves – In person 4pm – 6pm\n\n\nCada dos viernes\, Enriquecimiento STEAM
URL:https://elbuen.org/event/academic-center-of-excellence-2024-09-06/
END:VEVENT
BEGIN:VEVENT
DTSTART;TZID=UTC:20240905T183000
DTEND;TZID=UTC:20240905T203000
DTSTAMP:20260421T121912
CREATED:20240910T143657Z
LAST-MODIFIED:20240910T143657Z
UID:29889-1725561000-1725568200@elbuen.org
SUMMARY:Adult ESL Classes
DESCRIPTION:Adult ESL – September 3 – December 19\n\n\nTues\, Wed\, Thurs\, 9:30am – 11:30 or  6:30pm – 8:30pm\n\n\nClases de inglés para adultos- 3 de septiembre al 19 de diciembre \n\nMartes\, Miercoles\, y jueves de  9:30am – 11:30 o 6:30pm – 8:30pm
URL:https://elbuen.org/event/adult-esl-classes-2024-09-05-2/
END:VEVENT
BEGIN:VEVENT
DTSTART;TZID=UTC:20240905T160000
DTEND;TZID=UTC:20240905T180000
DTSTAMP:20260421T121912
CREATED:20240910T145240Z
LAST-MODIFIED:20240910T145240Z
UID:30016-1725552000-1725559200@elbuen.org
SUMMARY:Academic Center of Excellence
DESCRIPTION:Youth Academic Support – September 3 – December 6th\n\n\nMon & Tues – Virtual 4pm – 6pm\n\n\nWed & Thurs – In person 4pm – 6pm\n\n\nEvery other Friday\, STEAM Enrichment\n\n\nApoyo Académico – 3 de septiembre al 6 de diciembre \n\n\nLunes y Martes – Virtual 4pm – 6pm\n\n\nMiercoles y Jueves – In person 4pm – 6pm\n\n\nCada dos viernes\, Enriquecimiento STEAM
URL:https://elbuen.org/event/academic-center-of-excellence-2024-09-05/
END:VEVENT
BEGIN:VEVENT
DTSTART;TZID=UTC:20240905T103000
DTEND;TZID=UTC:20240905T120000
DTSTAMP:20260421T121912
CREATED:20240910T144236Z
LAST-MODIFIED:20240910T144236Z
UID:29982-1725532200-1725537600@elbuen.org
SUMMARY:Adult Computer Classes
DESCRIPTION:Adult Computer Classes – September 3 – December 19\n\n\nTues and Thurs\, 10:30am – 12pm\n\n\nClases de computación – 3 de septiembre al 19 de diciembre \n\nMartes y Jueves de  10:30am a 12pm
URL:https://elbuen.org/event/adult-computer-classes-2024-09-05/
END:VEVENT
BEGIN:VEVENT
DTSTART;TZID=UTC:20240905T093000
DTEND;TZID=UTC:20240905T113000
DTSTAMP:20260421T121912
CREATED:20240910T143657Z
LAST-MODIFIED:20240910T143657Z
UID:29888-1725528600-1725535800@elbuen.org
SUMMARY:Adult ESL Classes
DESCRIPTION:Adult ESL – September 3 – December 19\n\n\nTues\, Wed\, Thurs\, 9:30am – 11:30 or  6:30pm – 8:30pm\n\n\nClases de inglés para adultos- 3 de septiembre al 19 de diciembre \n\nMartes\, Miercoles\, y jueves de  9:30am – 11:30 o 6:30pm – 8:30pm
URL:https://elbuen.org/event/adult-esl-classes-2024-09-05/
END:VEVENT
BEGIN:VEVENT
DTSTART;TZID=UTC:20240904T183000
DTEND;TZID=UTC:20240904T203000
DTSTAMP:20260421T121912
CREATED:20240910T143657Z
LAST-MODIFIED:20240910T143657Z
UID:29887-1725474600-1725481800@elbuen.org
SUMMARY:Adult ESL Classes
DESCRIPTION:Adult ESL – September 3 – December 19\n\n\nTues\, Wed\, Thurs\, 9:30am – 11:30 or  6:30pm – 8:30pm\n\n\nClases de inglés para adultos- 3 de septiembre al 19 de diciembre \n\nMartes\, Miercoles\, y jueves de  9:30am – 11:30 o 6:30pm – 8:30pm
URL:https://elbuen.org/event/adult-esl-classes-2024-09-04-2/
END:VEVENT
BEGIN:VEVENT
DTSTART;TZID=UTC:20240904T160000
DTEND;TZID=UTC:20240904T180000
DTSTAMP:20260421T121912
CREATED:20240910T145240Z
LAST-MODIFIED:20240910T145240Z
UID:30015-1725465600-1725472800@elbuen.org
SUMMARY:Academic Center of Excellence
DESCRIPTION:Youth Academic Support – September 3 – December 6th\n\n\nMon & Tues – Virtual 4pm – 6pm\n\n\nWed & Thurs – In person 4pm – 6pm\n\n\nEvery other Friday\, STEAM Enrichment\n\n\nApoyo Académico – 3 de septiembre al 6 de diciembre \n\n\nLunes y Martes – Virtual 4pm – 6pm\n\n\nMiercoles y Jueves – In person 4pm – 6pm\n\n\nCada dos viernes\, Enriquecimiento STEAM
URL:https://elbuen.org/event/academic-center-of-excellence-2024-09-04/
END:VEVENT
BEGIN:VEVENT
DTSTART;TZID=UTC:20240904T093000
DTEND;TZID=UTC:20240904T113000
DTSTAMP:20260421T121912
CREATED:20240910T143657Z
LAST-MODIFIED:20240910T143657Z
UID:29886-1725442200-1725449400@elbuen.org
SUMMARY:Adult ESL Classes
DESCRIPTION:Adult ESL – September 3 – December 19\n\n\nTues\, Wed\, Thurs\, 9:30am – 11:30 or  6:30pm – 8:30pm\n\n\nClases de inglés para adultos- 3 de septiembre al 19 de diciembre \n\nMartes\, Miercoles\, y jueves de  9:30am – 11:30 o 6:30pm – 8:30pm
URL:https://elbuen.org/event/adult-esl-classes-2024-09-04/
END:VEVENT
BEGIN:VEVENT
DTSTART;TZID=UTC:20240903T160000
DTEND;TZID=UTC:20240903T180000
DTSTAMP:20260421T121912
CREATED:20240910T145240Z
LAST-MODIFIED:20240910T145240Z
UID:30014-1725379200-1725386400@elbuen.org
SUMMARY:Academic Center of Excellence
DESCRIPTION:Youth Academic Support – September 3 – December 6th\n\n\nMon & Tues – Virtual 4pm – 6pm\n\n\nWed & Thurs – In person 4pm – 6pm\n\n\nEvery other Friday\, STEAM Enrichment\n\n\nApoyo Académico – 3 de septiembre al 6 de diciembre \n\n\nLunes y Martes – Virtual 4pm – 6pm\n\n\nMiercoles y Jueves – In person 4pm – 6pm\n\n\nCada dos viernes\, Enriquecimiento STEAM
URL:https://elbuen.org/event/academic-center-of-excellence/
END:VEVENT
BEGIN:VEVENT
DTSTART;TZID=UTC:20240903T103000
DTEND;TZID=UTC:20240903T120000
DTSTAMP:20260421T121912
CREATED:20240910T144236Z
LAST-MODIFIED:20240910T144236Z
UID:29981-1725359400-1725364800@elbuen.org
SUMMARY:Adult Computer Classes
DESCRIPTION:Adult Computer Classes – September 3 – December 19\n\n\nTues and Thurs\, 10:30am – 12pm\n\n\nClases de computación – 3 de septiembre al 19 de diciembre \n\nMartes y Jueves de  10:30am a 12pm
URL:https://elbuen.org/event/adult-computer-classes/
END:VEVENT
BEGIN:VEVENT
DTSTART;TZID=UTC:20240903T093000
DTEND;TZID=UTC:20240903T113000
DTSTAMP:20260421T121912
CREATED:20240910T143657Z
LAST-MODIFIED:20240910T143657Z
UID:29885-1725355800-1725363000@elbuen.org
SUMMARY:Adult ESL Classes
DESCRIPTION:Adult ESL – September 3 – December 19\n\n\nTues\, Wed\, Thurs\, 9:30am – 11:30 or  6:30pm – 8:30pm\n\n\nClases de inglés para adultos- 3 de septiembre al 19 de diciembre \n\nMartes\, Miercoles\, y jueves de  9:30am – 11:30 o 6:30pm – 8:30pm
URL:https://elbuen.org/event/adult-esl-classes/
END:VEVENT
BEGIN:VEVENT
DTSTART;TZID=UTC:20240807T100000
DTEND;TZID=UTC:20240807T113000
DTSTAMP:20260421T121912
CREATED:20240801T134504Z
LAST-MODIFIED:20240801T134504Z
UID:29600-1723024800-1723030200@elbuen.org
SUMMARY:Nutrition Class
DESCRIPTION:
URL:https://elbuen.org/event/nutrition-class-2024-08-07/
END:VEVENT
BEGIN:VEVENT
DTSTART;TZID=UTC:20240802T100000
DTEND;TZID=UTC:20240802T113000
DTSTAMP:20260421T121912
CREATED:20240801T134504Z
LAST-MODIFIED:20240801T134504Z
UID:29598-1722592800-1722598200@elbuen.org
SUMMARY:Nutrition Class
DESCRIPTION:
URL:https://elbuen.org/event/nutrition-class/
END:VEVENT
BEGIN:VEVENT
DTSTART;TZID=UTC:20240725T183000
DTEND;TZID=UTC:20240725T203000
DTSTAMP:20260421T121912
CREATED:20240419T164232Z
LAST-MODIFIED:20240419T164232Z
UID:29362-1721932200-1721939400@elbuen.org
SUMMARY:Virtual ESL Classes (Summer Semester)
DESCRIPTION:
URL:https://elbuen.org/event/virtual-esl-classes-summer-semester-2024-07-25-2/
END:VEVENT
BEGIN:VEVENT
DTSTART;TZID=UTC:20240725T100000
DTEND;TZID=UTC:20240725T120000
DTSTAMP:20260421T121912
CREATED:20240419T164520Z
LAST-MODIFIED:20240419T164520Z
UID:29202-1721901600-1721908800@elbuen.org
SUMMARY:In-Person Digital Literacy Classes (Summer Semester)
DESCRIPTION:
URL:https://elbuen.org/event/in-person-digital-literacy-classes-summer-semester-2024-07-25/
END:VEVENT
BEGIN:VEVENT
DTSTART;TZID=UTC:20240725T093000
DTEND;TZID=UTC:20240725T233000
DTSTAMP:20260421T121912
CREATED:20240419T164232Z
LAST-MODIFIED:20240419T164232Z
UID:29361-1721899800-1721950200@elbuen.org
SUMMARY:Virtual ESL Classes (Summer Semester)
DESCRIPTION:
URL:https://elbuen.org/event/virtual-esl-classes-summer-semester-2024-07-25/
END:VEVENT
BEGIN:VEVENT
DTSTART;TZID=UTC:20240724T183000
DTEND;TZID=UTC:20240724T203000
DTSTAMP:20260421T121912
CREATED:20240419T164232Z
LAST-MODIFIED:20240419T164232Z
UID:29360-1721845800-1721853000@elbuen.org
SUMMARY:Virtual ESL Classes (Summer Semester)
DESCRIPTION:
URL:https://elbuen.org/event/virtual-esl-classes-summer-semester-2024-07-24-2/
END:VEVENT
BEGIN:VEVENT
DTSTART;TZID=UTC:20240724T093000
DTEND;TZID=UTC:20240724T233000
DTSTAMP:20260421T121912
CREATED:20240419T164232Z
LAST-MODIFIED:20240419T164232Z
UID:29359-1721813400-1721863800@elbuen.org
SUMMARY:Virtual ESL Classes (Summer Semester)
DESCRIPTION:
URL:https://elbuen.org/event/virtual-esl-classes-summer-semester-2024-07-24/
END:VEVENT
BEGIN:VEVENT
DTSTART;TZID=UTC:20240723T183000
DTEND;TZID=UTC:20240723T203000
DTSTAMP:20260421T121912
CREATED:20240419T164232Z
LAST-MODIFIED:20240419T164232Z
UID:29358-1721759400-1721766600@elbuen.org
SUMMARY:Virtual ESL Classes (Summer Semester)
DESCRIPTION:
URL:https://elbuen.org/event/virtual-esl-classes-summer-semester-2024-07-23-2/
END:VEVENT
END:VCALENDAR