BEGIN:VCALENDAR
VERSION:2.0
PRODID:-//El Buen Samaritano - ECPv6.15.20//NONSGML v1.0//EN
CALSCALE:GREGORIAN
METHOD:PUBLISH
X-WR-CALNAME:El Buen Samaritano
X-ORIGINAL-URL:https://elbuen.org
X-WR-CALDESC:Events for El Buen Samaritano
REFRESH-INTERVAL;VALUE=DURATION:PT1H
X-Robots-Tag:noindex
X-PUBLISHED-TTL:PT1H
BEGIN:VTIMEZONE
TZID:UTC
BEGIN:STANDARD
TZOFFSETFROM:+0000
TZOFFSETTO:+0000
TZNAME:UTC
DTSTART:20230101T000000
END:STANDARD
END:VTIMEZONE
BEGIN:VEVENT
DTSTART;TZID=UTC:20241205T093000
DTEND;TZID=UTC:20241205T113000
DTSTAMP:20260421T113247
CREATED:20240910T143657Z
LAST-MODIFIED:20240910T143657Z
UID:29966-1733391000-1733398200@elbuen.org
SUMMARY:Adult ESL Classes
DESCRIPTION:Adult ESL – September 3 – December 19\n\n\nTues\, Wed\, Thurs\, 9:30am – 11:30 or  6:30pm – 8:30pm\n\n\nClases de inglés para adultos- 3 de septiembre al 19 de diciembre \n\nMartes\, Miercoles\, y jueves de  9:30am – 11:30 o 6:30pm – 8:30pm
URL:https://elbuen.org/event/adult-esl-classes-2024-12-05/
END:VEVENT
BEGIN:VEVENT
DTSTART;TZID=UTC:20241205T103000
DTEND;TZID=UTC:20241205T120000
DTSTAMP:20260421T113247
CREATED:20240910T144236Z
LAST-MODIFIED:20240910T144236Z
UID:30008-1733394600-1733400000@elbuen.org
SUMMARY:Adult Computer Classes
DESCRIPTION:Adult Computer Classes – September 3 – December 19\n\n\nTues and Thurs\, 10:30am – 12pm\n\n\nClases de computación – 3 de septiembre al 19 de diciembre \n\nMartes y Jueves de  10:30am a 12pm
URL:https://elbuen.org/event/adult-computer-classes-2024-12-05/
END:VEVENT
BEGIN:VEVENT
DTSTART;TZID=UTC:20241205T160000
DTEND;TZID=UTC:20241205T180000
DTSTAMP:20260421T113247
CREATED:20240910T145240Z
LAST-MODIFIED:20240910T145240Z
UID:30081-1733414400-1733421600@elbuen.org
SUMMARY:Academic Center of Excellence
DESCRIPTION:Youth Academic Support – September 3 – December 6th\n\n\nMon & Tues – Virtual 4pm – 6pm\n\n\nWed & Thurs – In person 4pm – 6pm\n\n\nEvery other Friday\, STEAM Enrichment\n\n\nApoyo Académico – 3 de septiembre al 6 de diciembre \n\n\nLunes y Martes – Virtual 4pm – 6pm\n\n\nMiercoles y Jueves – In person 4pm – 6pm\n\n\nCada dos viernes\, Enriquecimiento STEAM
URL:https://elbuen.org/event/academic-center-of-excellence-2024-12-05/
END:VEVENT
BEGIN:VEVENT
DTSTART;TZID=UTC:20241205T183000
DTEND;TZID=UTC:20241205T203000
DTSTAMP:20260421T113247
CREATED:20240910T143657Z
LAST-MODIFIED:20240910T143657Z
UID:29967-1733423400-1733430600@elbuen.org
SUMMARY:Adult ESL Classes
DESCRIPTION:Adult ESL – September 3 – December 19\n\n\nTues\, Wed\, Thurs\, 9:30am – 11:30 or  6:30pm – 8:30pm\n\n\nClases de inglés para adultos- 3 de septiembre al 19 de diciembre \n\nMartes\, Miercoles\, y jueves de  9:30am – 11:30 o 6:30pm – 8:30pm
URL:https://elbuen.org/event/adult-esl-classes-2024-12-05-2/
END:VEVENT
BEGIN:VEVENT
DTSTART;TZID=UTC:20241206T160000
DTEND;TZID=UTC:20241206T180000
DTSTAMP:20260421T113247
CREATED:20240910T145240Z
LAST-MODIFIED:20240910T145240Z
UID:30082-1733500800-1733508000@elbuen.org
SUMMARY:Academic Center of Excellence
DESCRIPTION:Youth Academic Support – September 3 – December 6th\n\n\nMon & Tues – Virtual 4pm – 6pm\n\n\nWed & Thurs – In person 4pm – 6pm\n\n\nEvery other Friday\, STEAM Enrichment\n\n\nApoyo Académico – 3 de septiembre al 6 de diciembre \n\n\nLunes y Martes – Virtual 4pm – 6pm\n\n\nMiercoles y Jueves – In person 4pm – 6pm\n\n\nCada dos viernes\, Enriquecimiento STEAM
URL:https://elbuen.org/event/academic-center-of-excellence-2024-12-06/
END:VEVENT
BEGIN:VEVENT
DTSTART;TZID=UTC:20241210T093000
DTEND;TZID=UTC:20241210T113000
DTSTAMP:20260421T113247
CREATED:20240910T143657Z
LAST-MODIFIED:20240910T143657Z
UID:29968-1733823000-1733830200@elbuen.org
SUMMARY:Adult ESL Classes
DESCRIPTION:Adult ESL – September 3 – December 19\n\n\nTues\, Wed\, Thurs\, 9:30am – 11:30 or  6:30pm – 8:30pm\n\n\nClases de inglés para adultos- 3 de septiembre al 19 de diciembre \n\nMartes\, Miercoles\, y jueves de  9:30am – 11:30 o 6:30pm – 8:30pm
URL:https://elbuen.org/event/adult-esl-classes-2024-12-10/
END:VEVENT
BEGIN:VEVENT
DTSTART;TZID=UTC:20241210T100000
DTEND;TZID=UTC:20241210T100000
DTSTAMP:20260421T113247
CREATED:20240925T185206Z
LAST-MODIFIED:20240925T185206Z
UID:30204-1733824800-1733824800@elbuen.org
SUMMARY:Vaccine Clinic
DESCRIPTION:Vaccines begin at 10 a.m. and will be available on a first-come\, first-serve basis while supplies last.. \n\nLas vacunas comienzan a administrarse a las 10a.m. y estarán disponibles por orden de llegada hasta agotar existencias. \nMore info here! – ¡Más información aquí!
URL:https://elbuen.org/event/vaccine-clinic-3-2024-12-10/
END:VEVENT
BEGIN:VEVENT
DTSTART;TZID=UTC:20241210T103000
DTEND;TZID=UTC:20241210T120000
DTSTAMP:20260421T113247
CREATED:20240910T144236Z
LAST-MODIFIED:20240910T144236Z
UID:30009-1733826600-1733832000@elbuen.org
SUMMARY:Adult Computer Classes
DESCRIPTION:Adult Computer Classes – September 3 – December 19\n\n\nTues and Thurs\, 10:30am – 12pm\n\n\nClases de computación – 3 de septiembre al 19 de diciembre \n\nMartes y Jueves de  10:30am a 12pm
URL:https://elbuen.org/event/adult-computer-classes-2024-12-10/
END:VEVENT
BEGIN:VEVENT
DTSTART;TZID=UTC:20241210T183000
DTEND;TZID=UTC:20241210T203000
DTSTAMP:20260421T113247
CREATED:20240910T143657Z
LAST-MODIFIED:20240910T143657Z
UID:29969-1733855400-1733862600@elbuen.org
SUMMARY:Adult ESL Classes
DESCRIPTION:Adult ESL – September 3 – December 19\n\n\nTues\, Wed\, Thurs\, 9:30am – 11:30 or  6:30pm – 8:30pm\n\n\nClases de inglés para adultos- 3 de septiembre al 19 de diciembre \n\nMartes\, Miercoles\, y jueves de  9:30am – 11:30 o 6:30pm – 8:30pm
URL:https://elbuen.org/event/adult-esl-classes-2024-12-10-2/
END:VEVENT
BEGIN:VEVENT
DTSTART;TZID=UTC:20241211T093000
DTEND;TZID=UTC:20241211T113000
DTSTAMP:20260421T113247
CREATED:20240910T143657Z
LAST-MODIFIED:20240910T143657Z
UID:29970-1733909400-1733916600@elbuen.org
SUMMARY:Adult ESL Classes
DESCRIPTION:Adult ESL – September 3 – December 19\n\n\nTues\, Wed\, Thurs\, 9:30am – 11:30 or  6:30pm – 8:30pm\n\n\nClases de inglés para adultos- 3 de septiembre al 19 de diciembre \n\nMartes\, Miercoles\, y jueves de  9:30am – 11:30 o 6:30pm – 8:30pm
URL:https://elbuen.org/event/adult-esl-classes-2024-12-11/
END:VEVENT
BEGIN:VEVENT
DTSTART;TZID=UTC:20241211T183000
DTEND;TZID=UTC:20241211T203000
DTSTAMP:20260421T113247
CREATED:20240910T143657Z
LAST-MODIFIED:20240910T143657Z
UID:29971-1733941800-1733949000@elbuen.org
SUMMARY:Adult ESL Classes
DESCRIPTION:Adult ESL – September 3 – December 19\n\n\nTues\, Wed\, Thurs\, 9:30am – 11:30 or  6:30pm – 8:30pm\n\n\nClases de inglés para adultos- 3 de septiembre al 19 de diciembre \n\nMartes\, Miercoles\, y jueves de  9:30am – 11:30 o 6:30pm – 8:30pm
URL:https://elbuen.org/event/adult-esl-classes-2024-12-11-2/
END:VEVENT
BEGIN:VEVENT
DTSTART;TZID=UTC:20241212T093000
DTEND;TZID=UTC:20241212T113000
DTSTAMP:20260421T113247
CREATED:20240910T143657Z
LAST-MODIFIED:20240910T143657Z
UID:29972-1733995800-1734003000@elbuen.org
SUMMARY:Adult ESL Classes
DESCRIPTION:Adult ESL – September 3 – December 19\n\n\nTues\, Wed\, Thurs\, 9:30am – 11:30 or  6:30pm – 8:30pm\n\n\nClases de inglés para adultos- 3 de septiembre al 19 de diciembre \n\nMartes\, Miercoles\, y jueves de  9:30am – 11:30 o 6:30pm – 8:30pm
URL:https://elbuen.org/event/adult-esl-classes-2024-12-12/
END:VEVENT
BEGIN:VEVENT
DTSTART;TZID=UTC:20241212T103000
DTEND;TZID=UTC:20241212T120000
DTSTAMP:20260421T113247
CREATED:20240910T144236Z
LAST-MODIFIED:20240910T144236Z
UID:30010-1733999400-1734004800@elbuen.org
SUMMARY:Adult Computer Classes
DESCRIPTION:Adult Computer Classes – September 3 – December 19\n\n\nTues and Thurs\, 10:30am – 12pm\n\n\nClases de computación – 3 de septiembre al 19 de diciembre \n\nMartes y Jueves de  10:30am a 12pm
URL:https://elbuen.org/event/adult-computer-classes-2024-12-12/
END:VEVENT
BEGIN:VEVENT
DTSTART;TZID=UTC:20241212T183000
DTEND;TZID=UTC:20241212T203000
DTSTAMP:20260421T113247
CREATED:20240910T143657Z
LAST-MODIFIED:20240910T143657Z
UID:29973-1734028200-1734035400@elbuen.org
SUMMARY:Adult ESL Classes
DESCRIPTION:Adult ESL – September 3 – December 19\n\n\nTues\, Wed\, Thurs\, 9:30am – 11:30 or  6:30pm – 8:30pm\n\n\nClases de inglés para adultos- 3 de septiembre al 19 de diciembre \n\nMartes\, Miercoles\, y jueves de  9:30am – 11:30 o 6:30pm – 8:30pm
URL:https://elbuen.org/event/adult-esl-classes-2024-12-12-2/
END:VEVENT
BEGIN:VEVENT
DTSTART;TZID=UTC:20241217T093000
DTEND;TZID=UTC:20241217T113000
DTSTAMP:20260421T113247
CREATED:20240910T143657Z
LAST-MODIFIED:20240910T143657Z
UID:29974-1734427800-1734435000@elbuen.org
SUMMARY:Adult ESL Classes
DESCRIPTION:Adult ESL – September 3 – December 19\n\n\nTues\, Wed\, Thurs\, 9:30am – 11:30 or  6:30pm – 8:30pm\n\n\nClases de inglés para adultos- 3 de septiembre al 19 de diciembre \n\nMartes\, Miercoles\, y jueves de  9:30am – 11:30 o 6:30pm – 8:30pm
URL:https://elbuen.org/event/adult-esl-classes-2024-12-17/
END:VEVENT
BEGIN:VEVENT
DTSTART;TZID=UTC:20241217T103000
DTEND;TZID=UTC:20241217T120000
DTSTAMP:20260421T113247
CREATED:20240910T144236Z
LAST-MODIFIED:20240910T144236Z
UID:30011-1734431400-1734436800@elbuen.org
SUMMARY:Adult Computer Classes
DESCRIPTION:Adult Computer Classes – September 3 – December 19\n\n\nTues and Thurs\, 10:30am – 12pm\n\n\nClases de computación – 3 de septiembre al 19 de diciembre \n\nMartes y Jueves de  10:30am a 12pm
URL:https://elbuen.org/event/adult-computer-classes-2024-12-17/
END:VEVENT
BEGIN:VEVENT
DTSTART;TZID=UTC:20241217T183000
DTEND;TZID=UTC:20241217T203000
DTSTAMP:20260421T113247
CREATED:20240910T143657Z
LAST-MODIFIED:20240910T143657Z
UID:29975-1734460200-1734467400@elbuen.org
SUMMARY:Adult ESL Classes
DESCRIPTION:Adult ESL – September 3 – December 19\n\n\nTues\, Wed\, Thurs\, 9:30am – 11:30 or  6:30pm – 8:30pm\n\n\nClases de inglés para adultos- 3 de septiembre al 19 de diciembre \n\nMartes\, Miercoles\, y jueves de  9:30am – 11:30 o 6:30pm – 8:30pm
URL:https://elbuen.org/event/adult-esl-classes-2024-12-17-2/
END:VEVENT
BEGIN:VEVENT
DTSTART;TZID=UTC:20241218T093000
DTEND;TZID=UTC:20241218T113000
DTSTAMP:20260421T113247
CREATED:20240910T143657Z
LAST-MODIFIED:20240910T143657Z
UID:29976-1734514200-1734521400@elbuen.org
SUMMARY:Adult ESL Classes
DESCRIPTION:Adult ESL – September 3 – December 19\n\n\nTues\, Wed\, Thurs\, 9:30am – 11:30 or  6:30pm – 8:30pm\n\n\nClases de inglés para adultos- 3 de septiembre al 19 de diciembre \n\nMartes\, Miercoles\, y jueves de  9:30am – 11:30 o 6:30pm – 8:30pm
URL:https://elbuen.org/event/adult-esl-classes-2024-12-18/
END:VEVENT
BEGIN:VEVENT
DTSTART;TZID=UTC:20241218T183000
DTEND;TZID=UTC:20241218T203000
DTSTAMP:20260421T113247
CREATED:20240910T143657Z
LAST-MODIFIED:20240910T143657Z
UID:29977-1734546600-1734553800@elbuen.org
SUMMARY:Adult ESL Classes
DESCRIPTION:Adult ESL – September 3 – December 19\n\n\nTues\, Wed\, Thurs\, 9:30am – 11:30 or  6:30pm – 8:30pm\n\n\nClases de inglés para adultos- 3 de septiembre al 19 de diciembre \n\nMartes\, Miercoles\, y jueves de  9:30am – 11:30 o 6:30pm – 8:30pm
URL:https://elbuen.org/event/adult-esl-classes-2024-12-18-2/
END:VEVENT
BEGIN:VEVENT
DTSTART;TZID=UTC:20241219T093000
DTEND;TZID=UTC:20241219T113000
DTSTAMP:20260421T113247
CREATED:20240910T143657Z
LAST-MODIFIED:20240910T143657Z
UID:29978-1734600600-1734607800@elbuen.org
SUMMARY:Adult ESL Classes
DESCRIPTION:Adult ESL – September 3 – December 19\n\n\nTues\, Wed\, Thurs\, 9:30am – 11:30 or  6:30pm – 8:30pm\n\n\nClases de inglés para adultos- 3 de septiembre al 19 de diciembre \n\nMartes\, Miercoles\, y jueves de  9:30am – 11:30 o 6:30pm – 8:30pm
URL:https://elbuen.org/event/adult-esl-classes-2024-12-19/
END:VEVENT
BEGIN:VEVENT
DTSTART;TZID=UTC:20241219T103000
DTEND;TZID=UTC:20241219T120000
DTSTAMP:20260421T113247
CREATED:20240910T144236Z
LAST-MODIFIED:20240910T144236Z
UID:30012-1734604200-1734609600@elbuen.org
SUMMARY:Adult Computer Classes
DESCRIPTION:Adult Computer Classes – September 3 – December 19\n\n\nTues and Thurs\, 10:30am – 12pm\n\n\nClases de computación – 3 de septiembre al 19 de diciembre \n\nMartes y Jueves de  10:30am a 12pm
URL:https://elbuen.org/event/adult-computer-classes-2024-12-19/
END:VEVENT
BEGIN:VEVENT
DTSTART;TZID=UTC:20241219T183000
DTEND;TZID=UTC:20241219T203000
DTSTAMP:20260421T113247
CREATED:20240910T143657Z
LAST-MODIFIED:20240910T143657Z
UID:29979-1734633000-1734640200@elbuen.org
SUMMARY:Adult ESL Classes
DESCRIPTION:Adult ESL – September 3 – December 19\n\n\nTues\, Wed\, Thurs\, 9:30am – 11:30 or  6:30pm – 8:30pm\n\n\nClases de inglés para adultos- 3 de septiembre al 19 de diciembre \n\nMartes\, Miercoles\, y jueves de  9:30am – 11:30 o 6:30pm – 8:30pm
URL:https://elbuen.org/event/adult-esl-classes-2024-12-19-2/
END:VEVENT
BEGIN:VEVENT
DTSTART;TZID=UTC:20250203T160000
DTEND;TZID=UTC:20250508T180000
DTSTAMP:20260421T113247
CREATED:20250409T214853Z
LAST-MODIFIED:20250409T214853Z
UID:31068-1738598400-1746727200@elbuen.org
SUMMARY:Youth Academic Support Spring Semester
DESCRIPTION:Youth Academic Center of Excellence\nVirtual After School Programming – Mon & Tues\nIn-Person After School  Programming- Wed & Thurs\nSTEAM Enrichment- In Person\, Every other Friday
URL:https://elbuen.org/event/youth-academic-support-spring-semester/
END:VEVENT
BEGIN:VEVENT
DTSTART;TZID=UTC:20250303T090000
DTEND;TZID=UTC:20250508T110000
DTSTAMP:20260421T113247
CREATED:20250409T214535Z
LAST-MODIFIED:20250409T214535Z
UID:31067-1740992400-1746702000@elbuen.org
SUMMARY:Virtual Adult ESL Spring Semester
DESCRIPTION:
URL:https://elbuen.org/event/virtual-adult-esl-spring-semester/
END:VEVENT
BEGIN:VEVENT
DTSTART;VALUE=DATE:20250418
DTEND;VALUE=DATE:20250422
DTSTAMP:20260421T113247
CREATED:20250409T214952Z
LAST-MODIFIED:20250409T214952Z
UID:31069-1744934400-1745279999@elbuen.org
SUMMARY:El Buen Closed
DESCRIPTION:
URL:https://elbuen.org/event/el-buen-closed/
END:VEVENT
BEGIN:VEVENT
DTSTART;TZID=UTC:20250422T083000
DTEND;TZID=UTC:20250422T100000
DTSTAMP:20260421T113247
CREATED:20250409T214148Z
LAST-MODIFIED:20250409T214148Z
UID:31064-1745310600-1745316000@elbuen.org
SUMMARY:On-Site Food Pantry
DESCRIPTION:On-Site Food Pantry– 7000 Woodhue Dr. Austin\, TX 78745\nTuesdays and Thursdays / Martes y Jueves\n8:30am-10am or until supplies last/ o hasta agotar existencias
URL:https://elbuen.org/event/on-site-food-pantry-4/
END:VEVENT
BEGIN:VEVENT
DTSTART;TZID=UTC:20250424T083000
DTEND;TZID=UTC:20250424T100000
DTSTAMP:20260421T113247
CREATED:20250409T214225Z
LAST-MODIFIED:20250409T214225Z
UID:31065-1745483400-1745488800@elbuen.org
SUMMARY:On-Site Food Pantry
DESCRIPTION:On-Site Food Pantry– 7000 Woodhue Dr. Austin\, TX 78745\nTuesdays and Thursdays / Martes y Jueves\n8:30am-10am or until supplies last/ o hasta agotar existencias
URL:https://elbuen.org/event/on-site-food-pantry-5/
END:VEVENT
BEGIN:VEVENT
DTSTART;TZID=UTC:20250425T083000
DTEND;TZID=UTC:20250425T100000
DTSTAMP:20260421T113247
CREATED:20250409T213554Z
LAST-MODIFIED:20250409T213554Z
UID:31058-1745569800-1745575200@elbuen.org
SUMMARY:Mobile Pantry - St. Johns Episcopal Church
DESCRIPTION:St. Johns Episcopal Church– 11201 Parkfield Dr. Austin\, TX 78758\n8:30am-10am or until supplies last/ o hasta agotar existencias
URL:https://elbuen.org/event/mobile-pantry-st-johns-episcopal-church-10/
END:VEVENT
BEGIN:VEVENT
DTSTART;TZID=UTC:20250429T083000
DTEND;TZID=UTC:20250429T100000
DTSTAMP:20260421T113247
CREATED:20250409T214258Z
LAST-MODIFIED:20250409T214258Z
UID:31066-1745915400-1745920800@elbuen.org
SUMMARY:On-Site Food Pantry
DESCRIPTION:On-Site Food Pantry– 7000 Woodhue Dr. Austin\, TX 78745\nTuesdays and Thursdays / Martes y Jueves\n8:30am-10am or until supplies last/ o hasta agotar existencias
URL:https://elbuen.org/event/on-site-food-pantry-6/
END:VEVENT
BEGIN:VEVENT
DTSTART;TZID=UTC:20250502T083000
DTEND;TZID=UTC:20250502T100000
DTSTAMP:20260421T113247
CREATED:20250409T213723Z
LAST-MODIFIED:20250501T181528Z
UID:31059-1746174600-1746180000@elbuen.org
SUMMARY:Mobile Pantry- Workforce Solutions North
DESCRIPTION:Workforce Solutions– 9001 N IH 35\, Suite #110\, Austin\, TX 78753\n8:30am-10am or until supplies last/ o hasta agotar existencias
URL:https://elbuen.org/event/mobile-pantry-workforce-solutions-north-8/
END:VEVENT
END:VCALENDAR