BEGIN:VCALENDAR
VERSION:2.0
PRODID:-//El Buen Samaritano - ECPv6.15.20//NONSGML v1.0//EN
CALSCALE:GREGORIAN
METHOD:PUBLISH
X-WR-CALNAME:El Buen Samaritano
X-ORIGINAL-URL:https://elbuen.org
X-WR-CALDESC:Events for El Buen Samaritano
REFRESH-INTERVAL;VALUE=DURATION:PT1H
X-Robots-Tag:noindex
X-PUBLISHED-TTL:PT1H
BEGIN:VTIMEZONE
TZID:UTC
BEGIN:STANDARD
TZOFFSETFROM:+0000
TZOFFSETTO:+0000
TZNAME:UTC
DTSTART:20240101T000000
END:STANDARD
END:VTIMEZONE
BEGIN:VEVENT
DTSTART;TZID=UTC:20250827T083000
DTEND;TZID=UTC:20250827T100000
DTSTAMP:20260425T143148
CREATED:20250519T151527Z
LAST-MODIFIED:20250519T151527Z
UID:31259-1756283400-1756288800@elbuen.org
SUMMARY:Mobile Pantry
DESCRIPTION:
URL:https://elbuen.org/event/mobile-pantry-2-2025-08-27/
END:VEVENT
BEGIN:VEVENT
DTSTART;TZID=UTC:20250826T083000
DTEND;TZID=UTC:20250826T103000
DTSTAMP:20260425T143148
CREATED:20250519T150248Z
LAST-MODIFIED:20250519T150248Z
UID:32073-1756197000-1756204200@elbuen.org
SUMMARY:On-Site Food Pantry
DESCRIPTION:On-Site Food Pantry– 7000 Woodhue Dr. Austin\, TX 78745\nTuesdays and Thursdays / Martes y Jueves\n8:30am-10:30am or until supplies last/ o hasta agotar existencias
URL:https://elbuen.org/event/on-site-food-pantry-7-2025-08-26/
END:VEVENT
BEGIN:VEVENT
DTSTART;TZID=UTC:20250822T083000
DTEND;TZID=UTC:20250822T100000
DTSTAMP:20260425T143148
CREATED:20250519T151238Z
LAST-MODIFIED:20250519T151238Z
UID:31251-1755851400-1755856800@elbuen.org
SUMMARY:Mobile Pantry
DESCRIPTION:
URL:https://elbuen.org/event/mobile-pantry-2025-08-22/
END:VEVENT
BEGIN:VEVENT
DTSTART;TZID=UTC:20250821T083000
DTEND;TZID=UTC:20250821T103000
DTSTAMP:20260425T143148
CREATED:20250519T150248Z
LAST-MODIFIED:20250519T150248Z
UID:32072-1755765000-1755772200@elbuen.org
SUMMARY:On-Site Food Pantry
DESCRIPTION:On-Site Food Pantry– 7000 Woodhue Dr. Austin\, TX 78745\nTuesdays and Thursdays / Martes y Jueves\n8:30am-10:30am or until supplies last/ o hasta agotar existencias
URL:https://elbuen.org/event/on-site-food-pantry-7-2025-08-21/
END:VEVENT
BEGIN:VEVENT
DTSTART;TZID=UTC:20250820T090000
DTEND;TZID=UTC:20250820T140000
DTSTAMP:20260425T143148
CREATED:20250630T194706Z
LAST-MODIFIED:20250630T194706Z
UID:31643-1755680400-1755698400@elbuen.org
SUMMARY:Fall Semester Education Registration
DESCRIPTION:
URL:https://elbuen.org/event/fall-semester-education-registration-2/
END:VEVENT
BEGIN:VEVENT
DTSTART;TZID=UTC:20250819T150000
DTEND;TZID=UTC:20250819T200000
DTSTAMP:20260425T143148
CREATED:20250630T194529Z
LAST-MODIFIED:20250630T194530Z
UID:31639-1755615600-1755633600@elbuen.org
SUMMARY:Fall Semester Education Registration
DESCRIPTION:
URL:https://elbuen.org/event/fall-semester-education-registration/
END:VEVENT
BEGIN:VEVENT
DTSTART;TZID=UTC:20250819T083000
DTEND;TZID=UTC:20250819T103000
DTSTAMP:20260425T143148
CREATED:20250519T150248Z
LAST-MODIFIED:20250519T150248Z
UID:32071-1755592200-1755599400@elbuen.org
SUMMARY:On-Site Food Pantry
DESCRIPTION:On-Site Food Pantry– 7000 Woodhue Dr. Austin\, TX 78745\nTuesdays and Thursdays / Martes y Jueves\n8:30am-10:30am or until supplies last/ o hasta agotar existencias
URL:https://elbuen.org/event/on-site-food-pantry-7-2025-08-19/
END:VEVENT
BEGIN:VEVENT
DTSTART;TZID=UTC:20250815T083000
DTEND;TZID=UTC:20250815T100000
DTSTAMP:20260425T143148
CREATED:20250519T151238Z
LAST-MODIFIED:20250519T151238Z
UID:31250-1755246600-1755252000@elbuen.org
SUMMARY:Mobile Pantry
DESCRIPTION:
URL:https://elbuen.org/event/mobile-pantry-2025-08-15/
END:VEVENT
BEGIN:VEVENT
DTSTART;TZID=UTC:20250814T083000
DTEND;TZID=UTC:20250814T103000
DTSTAMP:20260425T143148
CREATED:20250519T150248Z
LAST-MODIFIED:20250519T150248Z
UID:32070-1755160200-1755167400@elbuen.org
SUMMARY:On-Site Food Pantry
DESCRIPTION:On-Site Food Pantry– 7000 Woodhue Dr. Austin\, TX 78745\nTuesdays and Thursdays / Martes y Jueves\n8:30am-10:30am or until supplies last/ o hasta agotar existencias
URL:https://elbuen.org/event/on-site-food-pantry-7-2025-08-14/
END:VEVENT
BEGIN:VEVENT
DTSTART;TZID=UTC:20250812T083000
DTEND;TZID=UTC:20250812T103000
DTSTAMP:20260425T143148
CREATED:20250519T150248Z
LAST-MODIFIED:20250519T150248Z
UID:32069-1754987400-1754994600@elbuen.org
SUMMARY:On-Site Food Pantry
DESCRIPTION:On-Site Food Pantry– 7000 Woodhue Dr. Austin\, TX 78745\nTuesdays and Thursdays / Martes y Jueves\n8:30am-10:30am or until supplies last/ o hasta agotar existencias
URL:https://elbuen.org/event/on-site-food-pantry-7-2025-08-12/
END:VEVENT
BEGIN:VEVENT
DTSTART;TZID=UTC:20250808T083000
DTEND;TZID=UTC:20250808T100000
DTSTAMP:20260425T143148
CREATED:20250519T151238Z
LAST-MODIFIED:20250519T151238Z
UID:31249-1754641800-1754647200@elbuen.org
SUMMARY:Mobile Pantry
DESCRIPTION:
URL:https://elbuen.org/event/mobile-pantry-2025-08-08/
END:VEVENT
BEGIN:VEVENT
DTSTART;TZID=UTC:20250807T083000
DTEND;TZID=UTC:20250807T103000
DTSTAMP:20260425T143148
CREATED:20250519T150248Z
LAST-MODIFIED:20250519T150248Z
UID:32068-1754555400-1754562600@elbuen.org
SUMMARY:On-Site Food Pantry
DESCRIPTION:On-Site Food Pantry– 7000 Woodhue Dr. Austin\, TX 78745\nTuesdays and Thursdays / Martes y Jueves\n8:30am-10:30am or until supplies last/ o hasta agotar existencias
URL:https://elbuen.org/event/on-site-food-pantry-7-2025-08-07/
END:VEVENT
BEGIN:VEVENT
DTSTART;TZID=UTC:20250805T083000
DTEND;TZID=UTC:20250805T103000
DTSTAMP:20260425T143149
CREATED:20250519T150248Z
LAST-MODIFIED:20250519T150248Z
UID:32067-1754382600-1754389800@elbuen.org
SUMMARY:On-Site Food Pantry
DESCRIPTION:On-Site Food Pantry– 7000 Woodhue Dr. Austin\, TX 78745\nTuesdays and Thursdays / Martes y Jueves\n8:30am-10:30am or until supplies last/ o hasta agotar existencias
URL:https://elbuen.org/event/on-site-food-pantry-7-2025-08-05/
END:VEVENT
BEGIN:VEVENT
DTSTART;TZID=UTC:20250801T083000
DTEND;TZID=UTC:20250801T100000
DTSTAMP:20260425T143149
CREATED:20250519T151238Z
LAST-MODIFIED:20250519T151238Z
UID:31248-1754037000-1754042400@elbuen.org
SUMMARY:Mobile Pantry
DESCRIPTION:
URL:https://elbuen.org/event/mobile-pantry-2025-08-01/
END:VEVENT
BEGIN:VEVENT
DTSTART;VALUE=DATE:20250801
DTEND;VALUE=DATE:20250808
DTSTAMP:20260425T143149
CREATED:20250730T193807Z
LAST-MODIFIED:20250730T193845Z
UID:31681-1754006400-1754611199@elbuen.org
SUMMARY:Financial Assistane Application Portal Open
DESCRIPTION:Application portal will be open from August 1\, 2025 at 8:00am t August 7\, 2025 at 5:00pm. Apply HERE \n\nEl portal de aplicaciones estará abierto desde el 1 de agosto de 2025 a las 8:00am hasta el 7 de agosto de 2025 a las 5:00pm. ¡Aplica AQUÍ!
URL:https://elbuen.org/event/financial-assistane-application-portal-open/
END:VEVENT
BEGIN:VEVENT
DTSTART;TZID=UTC:20250731T083000
DTEND;TZID=UTC:20250731T103000
DTSTAMP:20260425T143149
CREATED:20250519T150248Z
LAST-MODIFIED:20250519T150248Z
UID:32066-1753950600-1753957800@elbuen.org
SUMMARY:On-Site Food Pantry
DESCRIPTION:On-Site Food Pantry– 7000 Woodhue Dr. Austin\, TX 78745\nTuesdays and Thursdays / Martes y Jueves\n8:30am-10:30am or until supplies last/ o hasta agotar existencias
URL:https://elbuen.org/event/on-site-food-pantry-7-2025-07-31/
END:VEVENT
BEGIN:VEVENT
DTSTART;TZID=UTC:20250730T083000
DTEND;TZID=UTC:20250730T100000
DTSTAMP:20260425T143149
CREATED:20250519T151527Z
LAST-MODIFIED:20250519T151527Z
UID:31258-1753864200-1753869600@elbuen.org
SUMMARY:Mobile Pantry
DESCRIPTION:
URL:https://elbuen.org/event/mobile-pantry-2-2025-07-30/
END:VEVENT
BEGIN:VEVENT
DTSTART;TZID=UTC:20250729T083000
DTEND;TZID=UTC:20250729T103000
DTSTAMP:20260425T143149
CREATED:20250519T150248Z
LAST-MODIFIED:20250519T150248Z
UID:32065-1753777800-1753785000@elbuen.org
SUMMARY:On-Site Food Pantry
DESCRIPTION:On-Site Food Pantry– 7000 Woodhue Dr. Austin\, TX 78745\nTuesdays and Thursdays / Martes y Jueves\n8:30am-10:30am or until supplies last/ o hasta agotar existencias
URL:https://elbuen.org/event/on-site-food-pantry-7-2025-07-29/
END:VEVENT
BEGIN:VEVENT
DTSTART;TZID=UTC:20250725T083000
DTEND;TZID=UTC:20250725T100000
DTSTAMP:20260425T143149
CREATED:20250519T151238Z
LAST-MODIFIED:20250519T151238Z
UID:31247-1753432200-1753437600@elbuen.org
SUMMARY:Mobile Pantry
DESCRIPTION:
URL:https://elbuen.org/event/mobile-pantry-2025-07-25/
END:VEVENT
BEGIN:VEVENT
DTSTART;TZID=UTC:20250724T083000
DTEND;TZID=UTC:20250724T103000
DTSTAMP:20260425T143149
CREATED:20250519T150248Z
LAST-MODIFIED:20250519T150248Z
UID:32064-1753345800-1753353000@elbuen.org
SUMMARY:On-Site Food Pantry
DESCRIPTION:On-Site Food Pantry– 7000 Woodhue Dr. Austin\, TX 78745\nTuesdays and Thursdays / Martes y Jueves\n8:30am-10:30am or until supplies last/ o hasta agotar existencias
URL:https://elbuen.org/event/on-site-food-pantry-7-2025-07-24/
END:VEVENT
BEGIN:VEVENT
DTSTART;TZID=UTC:20250724T080000
DTEND;TZID=UTC:20250724T170000
DTSTAMP:20260425T143149
CREATED:20250724T191743Z
LAST-MODIFIED:20250724T191744Z
UID:31669-1753344000-1753376400@elbuen.org
SUMMARY:Back To School Backpack Distribution
DESCRIPTION:       
URL:https://elbuen.org/event/back-to-school-backpack-distribution/
END:VEVENT
BEGIN:VEVENT
DTSTART;TZID=UTC:20250722T083000
DTEND;TZID=UTC:20250722T103000
DTSTAMP:20260425T143149
CREATED:20250519T150248Z
LAST-MODIFIED:20250519T150248Z
UID:32063-1753173000-1753180200@elbuen.org
SUMMARY:On-Site Food Pantry
DESCRIPTION:On-Site Food Pantry– 7000 Woodhue Dr. Austin\, TX 78745\nTuesdays and Thursdays / Martes y Jueves\n8:30am-10:30am or until supplies last/ o hasta agotar existencias
URL:https://elbuen.org/event/on-site-food-pantry-7-2025-07-22/
END:VEVENT
BEGIN:VEVENT
DTSTART;TZID=UTC:20250718T083000
DTEND;TZID=UTC:20250718T100000
DTSTAMP:20260425T143149
CREATED:20250519T151238Z
LAST-MODIFIED:20250519T151238Z
UID:31246-1752827400-1752832800@elbuen.org
SUMMARY:Mobile Pantry
DESCRIPTION:
URL:https://elbuen.org/event/mobile-pantry-2025-07-18/
END:VEVENT
BEGIN:VEVENT
DTSTART;TZID=UTC:20250717T083000
DTEND;TZID=UTC:20250717T103000
DTSTAMP:20260425T143149
CREATED:20250519T150248Z
LAST-MODIFIED:20250519T150248Z
UID:32062-1752741000-1752748200@elbuen.org
SUMMARY:On-Site Food Pantry
DESCRIPTION:On-Site Food Pantry– 7000 Woodhue Dr. Austin\, TX 78745\nTuesdays and Thursdays / Martes y Jueves\n8:30am-10:30am or until supplies last/ o hasta agotar existencias
URL:https://elbuen.org/event/on-site-food-pantry-7-2025-07-17/
END:VEVENT
BEGIN:VEVENT
DTSTART;TZID=UTC:20250715T083000
DTEND;TZID=UTC:20250715T103000
DTSTAMP:20260425T143149
CREATED:20250519T150248Z
LAST-MODIFIED:20250519T150248Z
UID:32061-1752568200-1752575400@elbuen.org
SUMMARY:On-Site Food Pantry
DESCRIPTION:On-Site Food Pantry– 7000 Woodhue Dr. Austin\, TX 78745\nTuesdays and Thursdays / Martes y Jueves\n8:30am-10:30am or until supplies last/ o hasta agotar existencias
URL:https://elbuen.org/event/on-site-food-pantry-7-2025-07-15/
END:VEVENT
BEGIN:VEVENT
DTSTART;TZID=UTC:20250711T083000
DTEND;TZID=UTC:20250711T100000
DTSTAMP:20260425T143149
CREATED:20250519T151238Z
LAST-MODIFIED:20250519T151238Z
UID:31245-1752222600-1752228000@elbuen.org
SUMMARY:Mobile Pantry
DESCRIPTION:
URL:https://elbuen.org/event/mobile-pantry-2025-07-11/
END:VEVENT
BEGIN:VEVENT
DTSTART;TZID=UTC:20250710T083000
DTEND;TZID=UTC:20250710T103000
DTSTAMP:20260425T143149
CREATED:20250519T150248Z
LAST-MODIFIED:20250519T150248Z
UID:32060-1752136200-1752143400@elbuen.org
SUMMARY:On-Site Food Pantry
DESCRIPTION:On-Site Food Pantry– 7000 Woodhue Dr. Austin\, TX 78745\nTuesdays and Thursdays / Martes y Jueves\n8:30am-10:30am or until supplies last/ o hasta agotar existencias
URL:https://elbuen.org/event/on-site-food-pantry-7-2025-07-10/
END:VEVENT
BEGIN:VEVENT
DTSTART;TZID=UTC:20250708T090000
DTEND;TZID=UTC:20250731T150000
DTSTAMP:20260425T143149
CREATED:20250519T153136Z
LAST-MODIFIED:20250519T153136Z
UID:31287-1751965200-1753974000@elbuen.org
SUMMARY:Summer Camp\, Session 2
DESCRIPTION:Camp programming is organized into four-week sessions held during either June or July\, running Monday through Thursday.\nEach camp day lasts from 9:00 AM to 3:00 PM\, offering six hours of engaging activities and learning.\nDoors Open at 8:45am & Dismissal ends at 3:15PM.\n———-\nEl programa del campamento esta organizado en sesiones de 4 semanas durante junio o julio\, de lunes a jueves.\nCada dia de campamento dura de 9:00 AM a 3:00 Pm; ofreciendo 6 horas de actividades y aprendizaje.\nLas puertas se abren a las 8:45 am y el despido termina a las 3:15 pm.
URL:https://elbuen.org/event/summer-camp-session-2/
END:VEVENT
BEGIN:VEVENT
DTSTART;TZID=UTC:20250708T083000
DTEND;TZID=UTC:20250708T103000
DTSTAMP:20260425T143149
CREATED:20250519T150248Z
LAST-MODIFIED:20250519T150248Z
UID:32059-1751963400-1751970600@elbuen.org
SUMMARY:On-Site Food Pantry
DESCRIPTION:On-Site Food Pantry– 7000 Woodhue Dr. Austin\, TX 78745\nTuesdays and Thursdays / Martes y Jueves\n8:30am-10:30am or until supplies last/ o hasta agotar existencias
URL:https://elbuen.org/event/on-site-food-pantry-7-2025-07-08/
END:VEVENT
BEGIN:VEVENT
DTSTART;TZID=UTC:20250702T080000
DTEND;TZID=UTC:20250704T170000
DTSTAMP:20260425T143149
CREATED:20250611T184718Z
LAST-MODIFIED:20250611T184718Z
UID:31533-1751443200-1751648400@elbuen.org
SUMMARY:Closed- 4th of July Break
DESCRIPTION:
URL:https://elbuen.org/event/closed-4th-of-july-break/
END:VEVENT
END:VCALENDAR