BEGIN:VCALENDAR
VERSION:2.0
PRODID:-//El Buen Samaritano - ECPv6.15.20//NONSGML v1.0//EN
CALSCALE:GREGORIAN
METHOD:PUBLISH
X-WR-CALNAME:El Buen Samaritano
X-ORIGINAL-URL:https://elbuen.org
X-WR-CALDESC:Events for El Buen Samaritano
REFRESH-INTERVAL;VALUE=DURATION:PT1H
X-Robots-Tag:noindex
X-PUBLISHED-TTL:PT1H
BEGIN:VTIMEZONE
TZID:UTC
BEGIN:STANDARD
TZOFFSETFROM:+0000
TZOFFSETTO:+0000
TZNAME:UTC
DTSTART:20230101T000000
END:STANDARD
END:VTIMEZONE
BEGIN:VEVENT
DTSTART;TZID=UTC:20240718T093000
DTEND;TZID=UTC:20240718T233000
DTSTAMP:20260421T141450
CREATED:20240419T164232Z
LAST-MODIFIED:20240419T164232Z
UID:29355-1721295000-1721345400@elbuen.org
SUMMARY:Virtual ESL Classes (Summer Semester)
DESCRIPTION:
URL:https://elbuen.org/event/virtual-esl-classes-summer-semester-2024-07-18/
END:VEVENT
BEGIN:VEVENT
DTSTART;TZID=UTC:20240718T100000
DTEND;TZID=UTC:20240718T120000
DTSTAMP:20260421T141450
CREATED:20240419T164520Z
LAST-MODIFIED:20240419T164520Z
UID:29200-1721296800-1721304000@elbuen.org
SUMMARY:In-Person Digital Literacy Classes (Summer Semester)
DESCRIPTION:
URL:https://elbuen.org/event/in-person-digital-literacy-classes-summer-semester-2024-07-18/
END:VEVENT
BEGIN:VEVENT
DTSTART;TZID=UTC:20240718T183000
DTEND;TZID=UTC:20240718T203000
DTSTAMP:20260421T141450
CREATED:20240419T164232Z
LAST-MODIFIED:20240419T164232Z
UID:29356-1721327400-1721334600@elbuen.org
SUMMARY:Virtual ESL Classes (Summer Semester)
DESCRIPTION:
URL:https://elbuen.org/event/virtual-esl-classes-summer-semester-2024-07-18-2/
END:VEVENT
END:VCALENDAR